BEGIN:VCALENDAR
VERSION:2.0
PRODID:-//Indivisible CA45 - ECPv6.15.20//NONSGML v1.0//EN
CALSCALE:GREGORIAN
METHOD:PUBLISH
X-WR-CALNAME:Indivisible CA45
X-ORIGINAL-URL:https://indivisibleca45.org
X-WR-CALDESC:Events for Indivisible CA45
REFRESH-INTERVAL;VALUE=DURATION:PT1H
X-Robots-Tag:noindex
X-PUBLISHED-TTL:PT1H
BEGIN:VTIMEZONE
TZID:America/Los_Angeles
BEGIN:DAYLIGHT
TZOFFSETFROM:-0800
TZOFFSETTO:-0700
TZNAME:PDT
DTSTART:20240310T100000
END:DAYLIGHT
BEGIN:STANDARD
TZOFFSETFROM:-0700
TZOFFSETTO:-0800
TZNAME:PST
DTSTART:20241103T090000
END:STANDARD
BEGIN:DAYLIGHT
TZOFFSETFROM:-0800
TZOFFSETTO:-0700
TZNAME:PDT
DTSTART:20250309T100000
END:DAYLIGHT
BEGIN:STANDARD
TZOFFSETFROM:-0700
TZOFFSETTO:-0800
TZNAME:PST
DTSTART:20251102T090000
END:STANDARD
BEGIN:DAYLIGHT
TZOFFSETFROM:-0800
TZOFFSETTO:-0700
TZNAME:PDT
DTSTART:20260308T100000
END:DAYLIGHT
BEGIN:STANDARD
TZOFFSETFROM:-0700
TZOFFSETTO:-0800
TZNAME:PST
DTSTART:20261101T090000
END:STANDARD
END:VTIMEZONE
BEGIN:VEVENT
DTSTART;TZID=America/Los_Angeles:20250405T130000
DTEND;TZID=America/Los_Angeles:20250405T143000
DTSTAMP:20260424T072838
CREATED:20250320T020818Z
LAST-MODIFIED:20250321T132540Z
UID:293-1743858000-1743863400@indivisibleca45.org
SUMMARY:No Kings OC
DESCRIPTION:  Big protest in Santa Ana! National day of action! Bring a sign\, water\, good shoes\, friends\, and family! \nRegister https://bit.ly/NoKingsOC\nProvide Support https://secure.actblue.com/donate/nokingsoc
URL:https://indivisibleca45.org/event/no-kings-oc/
LOCATION:Sasscer Park\, 600 W. Santa Ana Blvd\, Santa Ana\, CA\, 92701\, United States
END:VEVENT
END:VCALENDAR