BEGIN:VCALENDAR
VERSION:2.0
PRODID:-//Indivisible CA45 - ECPv6.15.20//NONSGML v1.0//EN
CALSCALE:GREGORIAN
METHOD:PUBLISH
X-WR-CALNAME:Indivisible CA45
X-ORIGINAL-URL:https://indivisibleca45.org
X-WR-CALDESC:Events for Indivisible CA45
REFRESH-INTERVAL;VALUE=DURATION:PT1H
X-Robots-Tag:noindex
X-PUBLISHED-TTL:PT1H
BEGIN:VTIMEZONE
TZID:America/Los_Angeles
BEGIN:DAYLIGHT
TZOFFSETFROM:-0800
TZOFFSETTO:-0700
TZNAME:PDT
DTSTART:20240310T100000
END:DAYLIGHT
BEGIN:STANDARD
TZOFFSETFROM:-0700
TZOFFSETTO:-0800
TZNAME:PST
DTSTART:20241103T090000
END:STANDARD
BEGIN:DAYLIGHT
TZOFFSETFROM:-0800
TZOFFSETTO:-0700
TZNAME:PDT
DTSTART:20250309T100000
END:DAYLIGHT
BEGIN:STANDARD
TZOFFSETFROM:-0700
TZOFFSETTO:-0800
TZNAME:PST
DTSTART:20251102T090000
END:STANDARD
BEGIN:DAYLIGHT
TZOFFSETFROM:-0800
TZOFFSETTO:-0700
TZNAME:PDT
DTSTART:20260308T100000
END:DAYLIGHT
BEGIN:STANDARD
TZOFFSETFROM:-0700
TZOFFSETTO:-0800
TZNAME:PST
DTSTART:20261101T090000
END:STANDARD
END:VTIMEZONE
BEGIN:VEVENT
DTSTART;TZID=America/Los_Angeles:20250628T104500
DTEND;TZID=America/Los_Angeles:20250628T130000
DTSTAMP:20260424T022432
CREATED:20250614T013236Z
LAST-MODIFIED:20250614T014227Z
UID:442-1751107500-1751115600@indivisibleca45.org
SUMMARY:INDIVISIBLE CA 45 JUNE MEETING for EDUCATION AND PLANNING
DESCRIPTION:Let’s get educated\, and make some plans! \nDraft Agenda (as of 6-13-25) \n\nReview of activities from June\n\n\nOur weekly rallies in on the streets of Brea\nJune 14 No Kings National Day of Protest\nDerek Tran office visits\netc.\n\n\n Special guest JOSH NEWMAN will give a presentation on public education in California\, with Q&A. Mr. Newman is a former State Senator\, Chair of the Senate Education Committee\, and army veteran.\n\n Upcoming activities for July:\n\n\n7/14 Bastille Day Protest with DNOC!\nContinued weekly rallies in Brea – cancelled if over 90 degrees – continuing activity.\nBi-weekly office visits to Derek Tran – continuing activity.\nAs Trump ramps up the use of intimidation\, terror\, and military force against Americans\, it’s time to make some bold new plans.\n\nThis meeting will also be available live streamed on Zoom – register in advance. \nWe have a beautiful venue with excellent A/V and live-streaming technologies in downtown Fullerton\, with Free Parking! \nPLEASE REGISTER at https://mobilize.us/s/gPadbh for zoom registration info and other details. \n 
URL:https://indivisibleca45.org/event/indivisible-ca-45-june-meeting-for-educational-and-planning/
LOCATION:First Christian Church of Fullerton\, 109 E Wilshire Av\, Fullerton\, CA\, 92832\, United States
ATTACH;FMTTYPE=image/jpeg:https://indivisibleca45.org/wp-content/uploads/2025/05/QandA.jpg
END:VEVENT
END:VCALENDAR