BEGIN:VCALENDAR
VERSION:2.0
PRODID:-//Indivisible CA45 - ECPv6.15.20//NONSGML v1.0//EN
CALSCALE:GREGORIAN
METHOD:PUBLISH
X-WR-CALNAME:Indivisible CA45
X-ORIGINAL-URL:https://indivisibleca45.org
X-WR-CALDESC:Events for Indivisible CA45
REFRESH-INTERVAL;VALUE=DURATION:PT1H
X-Robots-Tag:noindex
X-PUBLISHED-TTL:PT1H
BEGIN:VTIMEZONE
TZID:America/Los_Angeles
BEGIN:DAYLIGHT
TZOFFSETFROM:-0800
TZOFFSETTO:-0700
TZNAME:PDT
DTSTART:20240310T100000
END:DAYLIGHT
BEGIN:STANDARD
TZOFFSETFROM:-0700
TZOFFSETTO:-0800
TZNAME:PST
DTSTART:20241103T090000
END:STANDARD
BEGIN:DAYLIGHT
TZOFFSETFROM:-0800
TZOFFSETTO:-0700
TZNAME:PDT
DTSTART:20250309T100000
END:DAYLIGHT
BEGIN:STANDARD
TZOFFSETFROM:-0700
TZOFFSETTO:-0800
TZNAME:PST
DTSTART:20251102T090000
END:STANDARD
BEGIN:DAYLIGHT
TZOFFSETFROM:-0800
TZOFFSETTO:-0700
TZNAME:PDT
DTSTART:20260308T100000
END:DAYLIGHT
BEGIN:STANDARD
TZOFFSETFROM:-0700
TZOFFSETTO:-0800
TZNAME:PST
DTSTART:20261101T090000
END:STANDARD
END:VTIMEZONE
BEGIN:VEVENT
DTSTART;TZID=America/Los_Angeles:20250804T170000
DTEND;TZID=America/Los_Angeles:20250804T183000
DTSTAMP:20260423T215303
CREATED:20250729T025115Z
LAST-MODIFIED:20250730T063911Z
UID:493-1754326800-1754332200@indivisibleca45.org
SUMMARY:Monday Protests in Brea
DESCRIPTION:Join us every Monday in August from 5pm to 6:30pm on all four corners of Imperial Hwy and State College Blvd – the busiest intersection in Brea at rush hour.\nWe will be visible to over 5\,000 cars in 90 minutes! \nRSVP here for reminders and additional dates https://mobilize.us/s/no5mVS  optionally\, or just show up!\n \nThis event will be CANCELLED on any day that the high temperature in Brea is expected to exceed\, or actually exceeds 90 degrees F. We urge everyone to be cautious when the weather gets hot.\nSee the Brea Weather Forecast at https://forecast.weather.gov/MapClick.php?lon=-117.888&lat=33.914 \nWe protest for Democracy and the Rule Of Law.\nProtest against whatever Crimes are being perpetrated by the oligarchy today.\nBring your signs\nBring your flags.\nPlease be safe!\nThe best parking is behind the Northeast or Southeast corners of the intersection. \nThis a local Indivisible event! A core principle behind all Indivisible events is a commitment to nonviolent action. We expect all participants to seek to de-escalate any potential confrontation with those who disagree with our values.
URL:https://indivisibleca45.org/event/monday-protests-in-brea-7/
LOCATION:Brea\, Imperial Hwy and State College Blvd.\, Brea\, CA\, 92821\, United States
ORGANIZER;CN="Indivisible CA 45":MAILTO:action@indivisibleca45.org
END:VEVENT
END:VCALENDAR