BEGIN:VCALENDAR
VERSION:2.0
PRODID:-//Indivisible CA45 - ECPv6.15.20//NONSGML v1.0//EN
CALSCALE:GREGORIAN
METHOD:PUBLISH
X-WR-CALNAME:Indivisible CA45
X-ORIGINAL-URL:https://indivisibleca45.org
X-WR-CALDESC:Events for Indivisible CA45
REFRESH-INTERVAL;VALUE=DURATION:PT1H
X-Robots-Tag:noindex
X-PUBLISHED-TTL:PT1H
BEGIN:VTIMEZONE
TZID:America/Los_Angeles
BEGIN:DAYLIGHT
TZOFFSETFROM:-0800
TZOFFSETTO:-0700
TZNAME:PDT
DTSTART:20240310T100000
END:DAYLIGHT
BEGIN:STANDARD
TZOFFSETFROM:-0700
TZOFFSETTO:-0800
TZNAME:PST
DTSTART:20241103T090000
END:STANDARD
BEGIN:DAYLIGHT
TZOFFSETFROM:-0800
TZOFFSETTO:-0700
TZNAME:PDT
DTSTART:20250309T100000
END:DAYLIGHT
BEGIN:STANDARD
TZOFFSETFROM:-0700
TZOFFSETTO:-0800
TZNAME:PST
DTSTART:20251102T090000
END:STANDARD
BEGIN:DAYLIGHT
TZOFFSETFROM:-0800
TZOFFSETTO:-0700
TZNAME:PDT
DTSTART:20260308T100000
END:DAYLIGHT
BEGIN:STANDARD
TZOFFSETFROM:-0700
TZOFFSETTO:-0800
TZNAME:PST
DTSTART:20261101T090000
END:STANDARD
END:VTIMEZONE
BEGIN:VEVENT
DTSTART;TZID=America/Los_Angeles:20250905T133000
DTEND;TZID=America/Los_Angeles:20250905T140000
DTSTAMP:20260423T195855
CREATED:20250814T200419Z
LAST-MODIFIED:20250825T191613Z
UID:537-1757079000-1757080800@indivisibleca45.org
SUMMARY:Indivisible CA 45 Visit Derek Tran's Office In Person
DESCRIPTION:We will visit Derek’s office in Cypress every 2 weeks at 1:30\, \n6803 International Ave. Suite 100 Cypress 90630 \nA carpool will meet at 1 PM in the parking lot at the old Coco’s Restaurant on the south-east corner of State College and Imperial\, next to the 57 freeway. We expect to return to the carpool place at 2:30 to 3 PM. \nThis will be in informal meeting with Tran’s staff. \nWe leave comment cards to thank him voting for legislation we support\nand to request his support his support for our issues and legislation. \nDuring previous visits we have asked for an in-person town hall\, and for his support on issues such as public education\, medicaid\, prop 50\, and immigration policy. \nA carpool will meet at 1 PM in the parking lot at the former Coco’s Restaurant on the south-east corner of State College and Imperial\, next to the 57 freeway.\n1250 E Imperial Hwy\, Brea\, CA 92821\nWe expect to return to the carpool place at 2:30 to 3 PM. \nThe purpose of our visit is to thank Derek for any recent legislation/ votes and to encourage his support for upcoming legislation. Generally\, we only have a couple of minutes to talk with the office staff. Our comments will be written on comment cards (either provided at the office or by me). Usually we talk with an intern or staff member. The purpose of the visit is to develop a relationship with the district office staff as well as to briefly share our support and to increase our visibility in the district. \n 
URL:https://indivisibleca45.org/event/indivisible-ca-45-visit-derek-trans-office-in-person-3/
LOCATION:Derek Tran’s Office in Cypress\, 6803 international Ave. Suite 100\, Cypress\, CA\, 90630
ATTACH;FMTTYPE=image/jpeg:https://indivisibleca45.org/wp-content/uploads/2025/08/Office-Visit-2025-Cypress-June13th-group-picture-crop-scaled.jpg
END:VEVENT
END:VCALENDAR