BEGIN:VCALENDAR
VERSION:2.0
PRODID:-//Indivisible CA45 - ECPv6.15.20//NONSGML v1.0//EN
CALSCALE:GREGORIAN
METHOD:PUBLISH
X-WR-CALNAME:Indivisible CA45
X-ORIGINAL-URL:https://indivisibleca45.org
X-WR-CALDESC:Events for Indivisible CA45
REFRESH-INTERVAL;VALUE=DURATION:PT1H
X-Robots-Tag:noindex
X-PUBLISHED-TTL:PT1H
BEGIN:VTIMEZONE
TZID:America/Los_Angeles
BEGIN:DAYLIGHT
TZOFFSETFROM:-0800
TZOFFSETTO:-0700
TZNAME:PDT
DTSTART:20240310T100000
END:DAYLIGHT
BEGIN:STANDARD
TZOFFSETFROM:-0700
TZOFFSETTO:-0800
TZNAME:PST
DTSTART:20241103T090000
END:STANDARD
BEGIN:DAYLIGHT
TZOFFSETFROM:-0800
TZOFFSETTO:-0700
TZNAME:PDT
DTSTART:20250309T100000
END:DAYLIGHT
BEGIN:STANDARD
TZOFFSETFROM:-0700
TZOFFSETTO:-0800
TZNAME:PST
DTSTART:20251102T090000
END:STANDARD
BEGIN:DAYLIGHT
TZOFFSETFROM:-0800
TZOFFSETTO:-0700
TZNAME:PDT
DTSTART:20260308T100000
END:DAYLIGHT
BEGIN:STANDARD
TZOFFSETFROM:-0700
TZOFFSETTO:-0800
TZNAME:PST
DTSTART:20261101T090000
END:STANDARD
END:VTIMEZONE
BEGIN:VEVENT
DTSTART;TZID=America/Los_Angeles:20250927T100000
DTEND;TZID=America/Los_Angeles:20250927T120000
DTSTAMP:20260423T195903
CREATED:20250922T045712Z
LAST-MODIFIED:20250927T055009Z
UID:614-1758967200-1758974400@indivisibleca45.org
SUMMARY:HOLD THE LINE\, Rally in Long Beach
DESCRIPTION:Join with Indivisible CA 45\, Indivisible La Habra\, and Whittier Indivisible as we help fill in our section in Long Beach for the PCH Rally on Saturday September  27. \nThis rally will follow the coast from Orange County to LA in a spectacular show of solidarity. \nWe will stretch across a half-mile segment from 2nd Street & Pacific Coast Highway\, west  along the south side of 2nd street to the west end of the 2nd Street bridge.\nThis is “Segment number 2” on the Long Beach Indivisible plan. \nPARKING PARKING PARKING PARKING\n-FREE Alamitos Bay Marina parking across from the 2nd & PCH mall. It is between the boats and the parking structure. Make sure NOT to park in “Boat Owner” spots.\n– Parking on the street with street meters is $1.75 per hour.\n– The parking structure for the 2nd & PCH shopping center is free for the first 90 minutes and $2.00 for every 20 minutes after that.\n\n\n\nRegister on Mobilize HERE to receive critical event updates. I already signed up for us\, for 20 people from Indivisible CA 45 to attend at segment # 2\, so you don’t have to do the 2nd signup yourself. \nMeet up with Bridget at 2nd St and Marina Dr to strategize on deployment. \nMeeting point\nQUESTIONS? – contact Indivisible La Habra at indivisiblelahabra@gmail.com
URL:https://indivisibleca45.org/event/hold-the-line-rally-in-long-beach/
LOCATION:2nd St & Pacific Coast Hwy\, 2nd St & Pacific Coast Hwy\, Long Beach\, CA
ATTACH;FMTTYPE=image/webp:https://indivisibleca45.org/wp-content/uploads/2025/09/holdinghandsLB2.webp
END:VEVENT
END:VCALENDAR