BEGIN:VCALENDAR
VERSION:2.0
PRODID:-//Indivisible CA45 - ECPv6.15.20//NONSGML v1.0//EN
CALSCALE:GREGORIAN
METHOD:PUBLISH
X-ORIGINAL-URL:https://indivisibleca45.org
X-WR-CALDESC:Events for Indivisible CA45
REFRESH-INTERVAL;VALUE=DURATION:PT1H
X-Robots-Tag:noindex
X-PUBLISHED-TTL:PT1H
BEGIN:VTIMEZONE
TZID:America/Los_Angeles
BEGIN:DAYLIGHT
TZOFFSETFROM:-0800
TZOFFSETTO:-0700
TZNAME:PDT
DTSTART:20250309T100000
END:DAYLIGHT
BEGIN:STANDARD
TZOFFSETFROM:-0700
TZOFFSETTO:-0800
TZNAME:PST
DTSTART:20251102T090000
END:STANDARD
BEGIN:DAYLIGHT
TZOFFSETFROM:-0800
TZOFFSETTO:-0700
TZNAME:PDT
DTSTART:20260308T100000
END:DAYLIGHT
BEGIN:STANDARD
TZOFFSETFROM:-0700
TZOFFSETTO:-0800
TZNAME:PST
DTSTART:20261101T090000
END:STANDARD
BEGIN:DAYLIGHT
TZOFFSETFROM:-0800
TZOFFSETTO:-0700
TZNAME:PDT
DTSTART:20270314T100000
END:DAYLIGHT
BEGIN:STANDARD
TZOFFSETFROM:-0700
TZOFFSETTO:-0800
TZNAME:PST
DTSTART:20271107T090000
END:STANDARD
END:VTIMEZONE
BEGIN:VEVENT
DTSTART;TZID=America/Los_Angeles:20260321T110000
DTEND;TZID=America/Los_Angeles:20260321T123000
DTSTAMP:20260423T104651
CREATED:20260313T235700Z
LAST-MODIFIED:20260318T051956Z
UID:830-1774090800-1774096200@indivisibleca45.org
SUMMARY:Indivisible CA 45 Monthly Group Meeting
DESCRIPTION:Join Indivisible CA 45 for our March Monthly Meeting.\nAda Briceño\nAda Briceño will be our special guest!\nAgenda includes\n\nNo Kings – What We’re doing\, and what are your other options\nPrimary Election 2026\nRedistricting – how it works\, how CA 45 has changed\n\nYou may register at https://www.mobilize.us/indivisible/event/921172/\nfor reminders and updates. \nWe will be in our favored location\nFullerton Community Center\, but in Classroom #2\n340 W Commonwealth Ave\, Fullerton\, CA 92832 \n11 AM to 12:30 PM Saturday 3/21/2026 \nCongressional District 45 before and after prop. 50.
URL:https://indivisibleca45.org/event/indivisible-ca-45-monthly-group-meeting-3/
LOCATION:Fullerton Community Center\, 340 W Commonwealth Ave\, Fullerton\, CA\, 92832\, United States
CATEGORIES:Meeting
ATTACH;FMTTYPE=image/webp:https://indivisibleca45.org/wp-content/uploads/2026/03/JustNoKings.webp
ORGANIZER;CN="Indivisible CA 45":MAILTO:action@indivisibleca45.org
END:VEVENT
END:VCALENDAR