BEGIN:VCALENDAR
VERSION:2.0
PRODID:-//Indivisible CA45 - ECPv6.15.20//NONSGML v1.0//EN
CALSCALE:GREGORIAN
METHOD:PUBLISH
X-ORIGINAL-URL:https://indivisibleca45.org
X-WR-CALDESC:Events for Indivisible CA45
REFRESH-INTERVAL;VALUE=DURATION:PT1H
X-Robots-Tag:noindex
X-PUBLISHED-TTL:PT1H
BEGIN:VTIMEZONE
TZID:America/Los_Angeles
BEGIN:DAYLIGHT
TZOFFSETFROM:-0800
TZOFFSETTO:-0700
TZNAME:PDT
DTSTART:20240310T100000
END:DAYLIGHT
BEGIN:STANDARD
TZOFFSETFROM:-0700
TZOFFSETTO:-0800
TZNAME:PST
DTSTART:20241103T090000
END:STANDARD
BEGIN:DAYLIGHT
TZOFFSETFROM:-0800
TZOFFSETTO:-0700
TZNAME:PDT
DTSTART:20250309T100000
END:DAYLIGHT
BEGIN:STANDARD
TZOFFSETFROM:-0700
TZOFFSETTO:-0800
TZNAME:PST
DTSTART:20251102T090000
END:STANDARD
BEGIN:DAYLIGHT
TZOFFSETFROM:-0800
TZOFFSETTO:-0700
TZNAME:PDT
DTSTART:20260308T100000
END:DAYLIGHT
BEGIN:STANDARD
TZOFFSETFROM:-0700
TZOFFSETTO:-0800
TZNAME:PST
DTSTART:20261101T090000
END:STANDARD
END:VTIMEZONE
BEGIN:VEVENT
DTSTART;TZID=America/Los_Angeles:20250426T103000
DTEND;TZID=America/Los_Angeles:20250426T130000
DTSTAMP:20260424T070525
CREATED:20250417T003453Z
LAST-MODIFIED:20250417T064725Z
UID:373-1745663400-1745672400@indivisibleca45.org
SUMMARY:Indivisible CA 45 In-person Monthly Meeting
DESCRIPTION:Join our in-person meeting in Fullerton 92832\nto organize\, plan\, educate\, and to fight for democracy. \nThis meeting will also be live-streamed on Zoom! \nTo attend the meeting in person or by Zoom\, please RSVP here:\nhttps://www.mobilize.us/indivisible/event/777570/ \nAgenda for April 26\, 2025 \n\nReview of Indivisible CA-45 actions in April\nLessons learned from Pramila Jayapal’s “Resistance Lab”\nVoter Registration\nSafety at rallies/ protests\nOrganizing for May\nWorkgroup organization\n\nWe have expanded the time for our monthly meeting to 2.5 hours to allow for more time to  network personally with each other. \nWe will have sign/poster making materials available on tables. \nWE FIGHT FOR DEMOCRACY
URL:https://indivisibleca45.org/event/indivisible-ca-45-in-person-monthly-meeting/
LOCATION:First Christian Church of Fullerton\, 109 E Wilshire Av\, Fullerton\, CA\, 92832\, United States
CATEGORIES:Meeting
ORGANIZER;CN="Indivisible CA 45":MAILTO:action@indivisibleca45.org
END:VEVENT
END:VCALENDAR