BEGIN:VCALENDAR
VERSION:2.0
PRODID:-//Indivisible CA45 - ECPv6.15.20//NONSGML v1.0//EN
CALSCALE:GREGORIAN
METHOD:PUBLISH
X-ORIGINAL-URL:https://indivisibleca45.org
X-WR-CALDESC:Events for Indivisible CA45
REFRESH-INTERVAL;VALUE=DURATION:PT1H
X-Robots-Tag:noindex
X-PUBLISHED-TTL:PT1H
BEGIN:VTIMEZONE
TZID:America/Los_Angeles
BEGIN:DAYLIGHT
TZOFFSETFROM:-0800
TZOFFSETTO:-0700
TZNAME:PDT
DTSTART:20240310T100000
END:DAYLIGHT
BEGIN:STANDARD
TZOFFSETFROM:-0700
TZOFFSETTO:-0800
TZNAME:PST
DTSTART:20241103T090000
END:STANDARD
BEGIN:DAYLIGHT
TZOFFSETFROM:-0800
TZOFFSETTO:-0700
TZNAME:PDT
DTSTART:20250309T100000
END:DAYLIGHT
BEGIN:STANDARD
TZOFFSETFROM:-0700
TZOFFSETTO:-0800
TZNAME:PST
DTSTART:20251102T090000
END:STANDARD
BEGIN:DAYLIGHT
TZOFFSETFROM:-0800
TZOFFSETTO:-0700
TZNAME:PDT
DTSTART:20260308T100000
END:DAYLIGHT
BEGIN:STANDARD
TZOFFSETFROM:-0700
TZOFFSETTO:-0800
TZNAME:PST
DTSTART:20261101T090000
END:STANDARD
END:VTIMEZONE
BEGIN:VEVENT
DTSTART;TZID=America/Los_Angeles:20250823T110000
DTEND;TZID=America/Los_Angeles:20250823T133000
DTSTAMP:20260424T005602
CREATED:20250810T071301Z
LAST-MODIFIED:20250817T060049Z
UID:520-1755946800-1755955800@indivisibleca45.org
SUMMARY:Indivisible CA 45 Group Meeting for August
DESCRIPTION:We will review our recent actions and discuss future plans. \nOur featured guest speaker will be Tracy La\, co-founder and executive director at VietRISE. \nIn 2018\, VietRISE was founded with the mission to empower Orange County’s working class Vietnamese community by providing a central platform for community organizing\, civic engagement\, and social and cultural transformation deeply rooted in the principles of social justice. VietRISE’s first efforts toward movement building in the Vietnamese immigrant community occurred during the local movement to Defend Sanctuary in OC\, in which this organization played a pivotal role in defending CA’s sanctuary law\, the VALUES Act\, against anti-immigrant lawmakers and white supremacist groups. https://vietrise.org/ \nTracy La\, executive director of VietRISE\nThe meeting will be in the Osborne Auditorium\, in the Fullerton Public Library. From the main entrance\, go downstairs to the auditorium entrance \nThe library opens at 11 AM. Plenty of free parking on the north side of the library and city hall\, as well as along W. Amerige Ave. – see https://www.fullertonlibrary.org/parking
URL:https://indivisibleca45.org/event/indivisible-ca-45-group-meeting-for-august/
LOCATION:Fullerton Public Library\, 353 W Commonwealth Ave\, Fullerton\, CA\, 92832
CATEGORIES:Meeting
ATTACH;FMTTYPE=image/png:https://indivisibleca45.org/wp-content/uploads/2025/08/augustgroupmeetingbanner.png
ORGANIZER;CN="Indivisible CA 45":MAILTO:action@indivisibleca45.org
END:VEVENT
END:VCALENDAR