BEGIN:VCALENDAR
VERSION:2.0
PRODID:-//Indivisible CA45 - ECPv6.15.20//NONSGML v1.0//EN
CALSCALE:GREGORIAN
METHOD:PUBLISH
X-ORIGINAL-URL:https://indivisibleca45.org
X-WR-CALDESC:Events for Indivisible CA45
REFRESH-INTERVAL;VALUE=DURATION:PT1H
X-Robots-Tag:noindex
X-PUBLISHED-TTL:PT1H
BEGIN:VTIMEZONE
TZID:America/Los_Angeles
BEGIN:DAYLIGHT
TZOFFSETFROM:-0800
TZOFFSETTO:-0700
TZNAME:PDT
DTSTART:20250309T100000
END:DAYLIGHT
BEGIN:STANDARD
TZOFFSETFROM:-0700
TZOFFSETTO:-0800
TZNAME:PST
DTSTART:20251102T090000
END:STANDARD
BEGIN:DAYLIGHT
TZOFFSETFROM:-0800
TZOFFSETTO:-0700
TZNAME:PDT
DTSTART:20260308T100000
END:DAYLIGHT
BEGIN:STANDARD
TZOFFSETFROM:-0700
TZOFFSETTO:-0800
TZNAME:PST
DTSTART:20261101T090000
END:STANDARD
BEGIN:DAYLIGHT
TZOFFSETFROM:-0800
TZOFFSETTO:-0700
TZNAME:PDT
DTSTART:20270314T100000
END:DAYLIGHT
BEGIN:STANDARD
TZOFFSETFROM:-0700
TZOFFSETTO:-0800
TZNAME:PST
DTSTART:20271107T090000
END:STANDARD
END:VTIMEZONE
BEGIN:VEVENT
DTSTART;TZID=America/Los_Angeles:20260228T110000
DTEND;TZID=America/Los_Angeles:20260228T123000
DTSTAMP:20260423T135031
CREATED:20260211T002825Z
LAST-MODIFIED:20260211T002825Z
UID:779-1772276400-1772281800@indivisibleca45.org
SUMMARY:Indivisible CA 45 Monthly Group Meeting
DESCRIPTION:Join Indivisible CA 45 for our February Monthly Meeting.\nPlanned Parenthood of Orange and San Bernardino Counties will be our featured presenter\,\nincluding Q & A and an “interactive” session.\nWe will also review past and future events\, including\n\npast protests\nupcoming No Kings events on March 28th\nRepresentative Derek Tran’s office visits\n\nWe will be in our favored location\nFullerton Community Center\, Classroom #1\n340 W Commonwealth Ave\, Fullerton\, CA 92832 \n11AM to 12:30 PM Saturday 2/28/2026 \nYou may register at https://www.mobilize.us/indivisible/event/900607/\nfor reminders and updates.
URL:https://indivisibleca45.org/event/indivisible-ca-45-monthly-group-meeting-2/
LOCATION:Fullerton Community Center\, 340 W Commonwealth Ave\, Fullerton\, CA\, 92832\, United States
CATEGORIES:Meeting
ATTACH;FMTTYPE=image/webp:https://indivisibleca45.org/wp-content/uploads/2026/02/meeting_banner.webp
ORGANIZER;CN="Indivisible CA 45":MAILTO:action@indivisibleca45.org
END:VEVENT
END:VCALENDAR