BEGIN:VCALENDAR
VERSION:2.0
PRODID:-//Indivisible CA45 - ECPv6.15.20//NONSGML v1.0//EN
CALSCALE:GREGORIAN
METHOD:PUBLISH
X-ORIGINAL-URL:https://indivisibleca45.org
X-WR-CALDESC:Events for Indivisible CA45
REFRESH-INTERVAL;VALUE=DURATION:PT1H
X-Robots-Tag:noindex
X-PUBLISHED-TTL:PT1H
BEGIN:VTIMEZONE
TZID:America/Los_Angeles
BEGIN:DAYLIGHT
TZOFFSETFROM:-0800
TZOFFSETTO:-0700
TZNAME:PDT
DTSTART:20250309T100000
END:DAYLIGHT
BEGIN:STANDARD
TZOFFSETFROM:-0700
TZOFFSETTO:-0800
TZNAME:PST
DTSTART:20251102T090000
END:STANDARD
BEGIN:DAYLIGHT
TZOFFSETFROM:-0800
TZOFFSETTO:-0700
TZNAME:PDT
DTSTART:20260308T100000
END:DAYLIGHT
BEGIN:STANDARD
TZOFFSETFROM:-0700
TZOFFSETTO:-0800
TZNAME:PST
DTSTART:20261101T090000
END:STANDARD
BEGIN:DAYLIGHT
TZOFFSETFROM:-0800
TZOFFSETTO:-0700
TZNAME:PDT
DTSTART:20270314T100000
END:DAYLIGHT
BEGIN:STANDARD
TZOFFSETFROM:-0700
TZOFFSETTO:-0800
TZNAME:PST
DTSTART:20271107T090000
END:STANDARD
END:VTIMEZONE
BEGIN:VEVENT
DTSTART;TZID=America/Los_Angeles:20260425T110000
DTEND;TZID=America/Los_Angeles:20260425T123000
DTSTAMP:20260423T122551
CREATED:20260326T202305Z
LAST-MODIFIED:20260329T020159Z
UID:849-1777114800-1777120200@indivisibleca45.org
SUMMARY:Indivisible CA 45 Monthly Group Meeting
DESCRIPTION:Join Indivisible CA 45 for our April Monthly Meeting.\nWe will be in our favored \nFullerton Community Center\n340 W Commonwealth Ave\, Fullerton\, CA 92832 \n11 AM to 12:30 PM Saturday 4/25/2026 \nSpecial guest\, Mayor of Buena Park\, Connor Traut\nAgenda tentatively includes\n\nThe results of our previous participation in NO KINGS III in La Habra AND Whittier\nOur protests every Monday at rush hour in Brea\nThe upcoming “primary” Election in June\nFuture plans.\n\nYou may register at https://www.mobilize.us/indivisible/event/929009/\nfor reminders and updates. \n 
URL:https://indivisibleca45.org/event/__trashed/
LOCATION:Fullerton Community Center\, 340 W Commonwealth Ave\, Fullerton\, CA\, 92832\, United States
CATEGORIES:Meeting
ORGANIZER;CN="Indivisible CA 45":MAILTO:action@indivisibleca45.org
END:VEVENT
END:VCALENDAR