BEGIN:VCALENDAR
VERSION:2.0
PRODID:-//Indivisible CA45 - ECPv6.15.20//NONSGML v1.0//EN
CALSCALE:GREGORIAN
METHOD:PUBLISH
X-ORIGINAL-URL:https://indivisibleca45.org
X-WR-CALDESC:Events for Indivisible CA45
REFRESH-INTERVAL;VALUE=DURATION:PT1H
X-Robots-Tag:noindex
X-PUBLISHED-TTL:PT1H
BEGIN:VTIMEZONE
TZID:America/Los_Angeles
BEGIN:DAYLIGHT
TZOFFSETFROM:-0800
TZOFFSETTO:-0700
TZNAME:PDT
DTSTART:20250309T100000
END:DAYLIGHT
BEGIN:STANDARD
TZOFFSETFROM:-0700
TZOFFSETTO:-0800
TZNAME:PST
DTSTART:20251102T090000
END:STANDARD
BEGIN:DAYLIGHT
TZOFFSETFROM:-0800
TZOFFSETTO:-0700
TZNAME:PDT
DTSTART:20260308T100000
END:DAYLIGHT
BEGIN:STANDARD
TZOFFSETFROM:-0700
TZOFFSETTO:-0800
TZNAME:PST
DTSTART:20261101T090000
END:STANDARD
BEGIN:DAYLIGHT
TZOFFSETFROM:-0800
TZOFFSETTO:-0700
TZNAME:PDT
DTSTART:20270314T100000
END:DAYLIGHT
BEGIN:STANDARD
TZOFFSETFROM:-0700
TZOFFSETTO:-0800
TZNAME:PST
DTSTART:20271107T090000
END:STANDARD
END:VTIMEZONE
BEGIN:VEVENT
DTSTART;TZID=America/Los_Angeles:20260202T170000
DTEND;TZID=America/Los_Angeles:20260202T183000
DTSTAMP:20260423T135354
CREATED:20260201T083756Z
LAST-MODIFIED:20260201T083756Z
UID:769-1770051600-1770057000@indivisibleca45.org
SUMMARY:Monday Protests in Brea
DESCRIPTION:RAIN CANCELS  \nJoin us every Monday from 5pm to 6:30pm\non all four corners of Imperial Hwy and State College Blvd\n– the busiest intersection in Brea at rush hour. \nWe will be visible to over 5\,000 cars in 90 minutes!\n YES – we still protest in the dark\nWe get honks from a thousand cars every night \nJoin us on Monday\, February 2nd\, 2026 for a rally at the four corners of State College Blvd and Imperial Highway in Brea \n \nRSVP here for reminders and additional dates\nhttps://mobilize.us/s/YlMQ0k  optionally\, or just show up! \n \nWe are committed to safe and peaceful protests for everyone! \nSome new safety guidelines starting November 3 rd after the end of Daylight Savings:  \n\n Do not cross streets unless absolutely necessary.\nSelect a corner for the rally and stay there (until time for cookies and cocoa).\n(This is for your safety\, as when it is dark drivers cannot see you as well.\nAll of our close-calls have been with people crossing the street.) \nRemain behind the tape placed along the curb.\nFor your signs to be more easily seen and read –\nplease use white posters with black or dark lettering. \nTry to stay in well lit areas. Wear light colored clothing.\nDon’t engage with/distract drivers or agitators.\nDO NOT ESCALATE any confrontation.\n\nWe protest for Democracy\, the Rule Of Law\, and Freedom of Speech!\nProtest against whatever crimes and injustices are being perpetrated by MAGA today.\nBring your signs\nBring your flags.\nPlease be safe!\nThe best parking is behind the Northeast or Southeast corners of the intersection. \nThis a local Indivisible event! A core principle behind all Indivisible events is a commitment to nonviolent action. We expect all participants to seek to de-escalate any potential confrontation with those who disagree with our values.
URL:https://indivisibleca45.org/event/monday-protests-in-brea-32/
LOCATION:Brea\, Imperial Hwy and State College Blvd.\, Brea\, CA\, 92821\, United States
CATEGORIES:Rally
ATTACH;FMTTYPE=image/webp:https://indivisibleca45.org/wp-content/uploads/2026/01/BG2A4327.webp
ORGANIZER;CN="Indivisible CA 45":MAILTO:action@indivisibleca45.org
END:VEVENT
BEGIN:VEVENT
DTSTART;TZID=America/Los_Angeles:20260209T170000
DTEND;TZID=America/Los_Angeles:20260209T183000
DTSTAMP:20260423T135354
CREATED:20260201T083930Z
LAST-MODIFIED:20260201T083930Z
UID:771-1770656400-1770661800@indivisibleca45.org
SUMMARY:Monday Protests in Brea
DESCRIPTION:RAIN CANCELS  \nJoin us every Monday from 5pm to 6:30pm\non all four corners of Imperial Hwy and State College Blvd\n– the busiest intersection in Brea at rush hour. \nWe will be visible to over 5\,000 cars in 90 minutes!\n YES – we still protest in the dark\nWe get honks from a thousand cars every night \nJoin us on Monday\, February 9th\, 2026 for a rally at the four corners of State College Blvd and Imperial Highway in Brea \n \nRSVP here for reminders and additional dates\nhttps://mobilize.us/s/YlMQ0k  optionally\, or just show up! \n \nWe are committed to safe and peaceful protests for everyone! \nSome new safety guidelines starting November 3 rd after the end of Daylight Savings:  \n\n Do not cross streets unless absolutely necessary.\nSelect a corner for the rally and stay there (until time for cookies and cocoa).\n(This is for your safety\, as when it is dark drivers cannot see you as well.\nAll of our close-calls have been with people crossing the street.) \nRemain behind the tape placed along the curb.\nFor your signs to be more easily seen and read –\nplease use white posters with black or dark lettering. \nTry to stay in well lit areas. Wear light colored clothing.\nDon’t engage with/distract drivers or agitators.\nDO NOT ESCALATE any confrontation.\n\nWe protest for Democracy\, the Rule Of Law\, and Freedom of Speech!\nProtest against whatever crimes and injustices are being perpetrated by MAGA today.\nBring your signs\nBring your flags.\nPlease be safe!\nThe best parking is behind the Northeast or Southeast corners of the intersection. \nThis a local Indivisible event! A core principle behind all Indivisible events is a commitment to nonviolent action. We expect all participants to seek to de-escalate any potential confrontation with those who disagree with our values.
URL:https://indivisibleca45.org/event/monday-protests-in-brea-33/
LOCATION:Brea\, Imperial Hwy and State College Blvd.\, Brea\, CA\, 92821\, United States
CATEGORIES:Rally
ATTACH;FMTTYPE=image/webp:https://indivisibleca45.org/wp-content/uploads/2026/01/BG2A4327.webp
ORGANIZER;CN="Indivisible CA 45":MAILTO:action@indivisibleca45.org
END:VEVENT
BEGIN:VEVENT
DTSTART;TZID=America/Los_Angeles:20260216T170000
DTEND;TZID=America/Los_Angeles:20260216T183000
DTSTAMP:20260423T135354
CREATED:20260204T235939Z
LAST-MODIFIED:20260216T072512Z
UID:773-1771261200-1771266600@indivisibleca45.org
SUMMARY:Monday Protest in Brea CANCELLED 2/16/26
DESCRIPTION:Due to a prediction of 98% chance of rain before\, during and after our 5pm-630 protest time slot in Brea on Monday\, the protest will be CANCELLED on Monday 2/16/26. See you next week! \n\nRAIN CANCELS  \nJoin us every Monday from 5pm to 6:30pm\non all four corners of Imperial Hwy and State College Blvd\n– the busiest intersection in Brea at rush hour. \nWe will be visible to over 5\,000 cars in 90 minutes!\n YES – we still protest in the dark\nWe get honks from a thousand cars every night \nJoin us on Monday\, February 16th\, 2026 for a rally at the four corners of State College Blvd and Imperial Highway in Brea \n \nRSVP here for reminders and additional dates\nhttps://mobilize.us/s/YlMQ0k  optionally\, or just show up! \n \nWe are committed to safe and peaceful protests for everyone! \nSome new safety guidelines starting November 3 rd after the end of Daylight Savings:  \n\n Do not cross streets unless absolutely necessary.\nSelect a corner for the rally and stay there (until time for cookies and cocoa).\n(This is for your safety\, as when it is dark drivers cannot see you as well.\nAll of our close-calls have been with people crossing the street.) \nRemain behind the tape placed along the curb.\nFor your signs to be more easily seen and read –\nplease use white posters with black or dark lettering. \nTry to stay in well lit areas. Wear light colored clothing.\nDon’t engage with/distract drivers or agitators.\nDO NOT ESCALATE any confrontation.\n\nWe protest for Democracy\, the Rule Of Law\, and Freedom of Speech!\nProtest against whatever crimes and injustices are being perpetrated by MAGA today.\nBring your signs\nBring your flags.\nPlease be safe!\nThe best parking is behind the Northeast or Southeast corners of the intersection. \nThis a local Indivisible event! A core principle behind all Indivisible events is a commitment to nonviolent action. We expect all participants to seek to de-escalate any potential confrontation with those who disagree with our values.
URL:https://indivisibleca45.org/event/monday-protests-in-brea-34/
LOCATION:Brea\, Imperial Hwy and State College Blvd.\, Brea\, CA\, 92821\, United States
CATEGORIES:Rally
ATTACH;FMTTYPE=image/webp:https://indivisibleca45.org/wp-content/uploads/2026/01/BG2A4327.webp
ORGANIZER;CN="Indivisible CA 45":MAILTO:action@indivisibleca45.org
END:VEVENT
BEGIN:VEVENT
DTSTART;TZID=America/Los_Angeles:20260223T170000
DTEND;TZID=America/Los_Angeles:20260223T183000
DTSTAMP:20260423T135354
CREATED:20260205T000329Z
LAST-MODIFIED:20260205T000329Z
UID:775-1771866000-1771871400@indivisibleca45.org
SUMMARY:Monday Protests in Brea
DESCRIPTION:RAIN CANCELS  \nJoin us every Monday from 5pm to 6:30pm\non all four corners of Imperial Hwy and State College Blvd\n– the busiest intersection in Brea at rush hour. \nWe will be visible to over 5\,000 cars in 90 minutes!\n YES – we still protest in the dark\nWe get honks from a thousand cars every night \nJoin us on Monday\, February 23rd\, 2026 for a rally at the four corners of State College Blvd and Imperial Highway in Brea \n \nRSVP here for reminders and additional dates\nhttps://mobilize.us/s/YlMQ0k  optionally\, or just show up! \n \nWe are committed to safe and peaceful protests for everyone! \nSome new safety guidelines starting November 3 rd after the end of Daylight Savings:  \n\n Do not cross streets unless absolutely necessary.\nSelect a corner for the rally and stay there (until time for cookies and cocoa).\n(This is for your safety\, as when it is dark drivers cannot see you as well.\nAll of our close-calls have been with people crossing the street.) \nRemain behind the tape placed along the curb.\nFor your signs to be more easily seen and read –\nplease use white posters with black or dark lettering. \nTry to stay in well lit areas. Wear light colored clothing.\nDon’t engage with/distract drivers or agitators.\nDO NOT ESCALATE any confrontation.\n\nWe protest for Democracy\, the Rule Of Law\, and Freedom of Speech!\nProtest against whatever crimes and injustices are being perpetrated by MAGA today.\nBring your signs\nBring your flags.\nPlease be safe!\nThe best parking is behind the Northeast or Southeast corners of the intersection. \nThis a local Indivisible event! A core principle behind all Indivisible events is a commitment to nonviolent action. We expect all participants to seek to de-escalate any potential confrontation with those who disagree with our values.
URL:https://indivisibleca45.org/event/monday-protests-in-brea-35/
LOCATION:Brea\, Imperial Hwy and State College Blvd.\, Brea\, CA\, 92821\, United States
CATEGORIES:Rally
ATTACH;FMTTYPE=image/webp:https://indivisibleca45.org/wp-content/uploads/2026/01/BG2A4327.webp
ORGANIZER;CN="Indivisible CA 45":MAILTO:action@indivisibleca45.org
END:VEVENT
END:VCALENDAR