BEGIN:VCALENDAR
VERSION:2.0
PRODID:-//Indivisible CA45 - ECPv6.15.20//NONSGML v1.0//EN
CALSCALE:GREGORIAN
METHOD:PUBLISH
X-ORIGINAL-URL:https://indivisibleca45.org
X-WR-CALDESC:Events for Indivisible CA45
REFRESH-INTERVAL;VALUE=DURATION:PT1H
X-Robots-Tag:noindex
X-PUBLISHED-TTL:PT1H
BEGIN:VTIMEZONE
TZID:America/Los_Angeles
BEGIN:DAYLIGHT
TZOFFSETFROM:-0800
TZOFFSETTO:-0700
TZNAME:PDT
DTSTART:20240310T100000
END:DAYLIGHT
BEGIN:STANDARD
TZOFFSETFROM:-0700
TZOFFSETTO:-0800
TZNAME:PST
DTSTART:20241103T090000
END:STANDARD
BEGIN:DAYLIGHT
TZOFFSETFROM:-0800
TZOFFSETTO:-0700
TZNAME:PDT
DTSTART:20250309T100000
END:DAYLIGHT
BEGIN:STANDARD
TZOFFSETFROM:-0700
TZOFFSETTO:-0800
TZNAME:PST
DTSTART:20251102T090000
END:STANDARD
BEGIN:DAYLIGHT
TZOFFSETFROM:-0800
TZOFFSETTO:-0700
TZNAME:PDT
DTSTART:20260308T100000
END:DAYLIGHT
BEGIN:STANDARD
TZOFFSETFROM:-0700
TZOFFSETTO:-0800
TZNAME:PST
DTSTART:20261101T090000
END:STANDARD
BEGIN:DAYLIGHT
TZOFFSETFROM:-0800
TZOFFSETTO:-0700
TZNAME:PDT
DTSTART:20270314T100000
END:DAYLIGHT
BEGIN:STANDARD
TZOFFSETFROM:-0700
TZOFFSETTO:-0800
TZNAME:PST
DTSTART:20271107T090000
END:STANDARD
END:VTIMEZONE
BEGIN:VEVENT
DTSTART;TZID=America/Los_Angeles:20260120T140000
DTEND;TZID=America/Los_Angeles:20260120T160000
DTSTAMP:20260423T153012
CREATED:20260108T235127Z
LAST-MODIFIED:20260108T235127Z
UID:743-1768917600-1768924800@indivisibleca45.org
SUMMARY:Free America Walkout
DESCRIPTION:Join our protest on all four corners of Imperial Hwy and State College Blvd\n– the busiest intersection in Brea.  \nThis is a nation-wide protest organized by Women’s March.\nA Free America begins the moment we stop cooperating with fascism. Join us at the Free America Walk Out Rally on Tuesday\, January 20th\, 2026 in Brea\, CA from 2:00 to 4:00pm. Let’s refuse to accept hate\, raids\, surveillance\, corruption\, and fear as the new normal. Help stop abuse of power\, support our community\, and take action with courage and care. Set a goal to work with neighbors\, classmates\, and coworkers. \nThis is a peaceful protest.  Please bring signs with positive messages only. \nRSVP here for reminders and additional dates\nhttps://action.womensmarch.com/events/indivisible-ca45-free-america-walkout-rally  optionally\, or just show up! \n \nWe are committed to safe and peaceful protests for everyone! \nSafety guidelines \n\nDon’t engage with/distract drivers or agitators.\nDO NOT ESCALATE any confrontation.\nPlease minimize street crossings. Try to pick a corner and stay on it to avoid competing with the traffic.\n\nBring your signs\nBring your flags.\nPlease be safe!\nThe best parking is behind the Northeast or Southeast corners of the intersection.
URL:https://indivisibleca45.org/event/free-america-walkout/
LOCATION:Brea\, Imperial Hwy and State College Blvd.\, Brea\, CA\, 92821\, United States
CATEGORIES:Rally
ATTACH;FMTTYPE=image/png:https://indivisibleca45.org/wp-content/uploads/2026/01/artwork16c.png
ORGANIZER;CN="Indivisible CA 45":MAILTO:action@indivisibleca45.org
END:VEVENT
BEGIN:VEVENT
DTSTART;TZID=America/Los_Angeles:20260119T170000
DTEND;TZID=America/Los_Angeles:20260119T183000
DTSTAMP:20260423T153012
CREATED:20260108T214745Z
LAST-MODIFIED:20260108T214745Z
UID:737-1768842000-1768847400@indivisibleca45.org
SUMMARY:Monday Protests in Brea
DESCRIPTION:RAIN CANCELS  \nJoin us every Monday from 5pm to 6:30pm\non all four corners of Imperial Hwy and State College Blvd\n– the busiest intersection in Brea at rush hour. \nWe will be visible to over 5\,000 cars in 90 minutes!\n YES – we still protest in the dark\nWe get honks from a thousand cars every night \nJoin us on Monday\, January 19th\, 2026 for the 47th rally at the four corners of State College Blvd and Imperial Highway in Brea \n \nRSVP here for reminders and additional dates\nhttps://mobilize.us/s/YlMQ0k  optionally\, or just show up! \n \nWe are committed to safe and peaceful protests for everyone! \nSome new safety guidelines starting November 3 rd after the end of Daylight Savings:  \n\n Do not cross streets unless absolutely necessary.\nSelect a corner for the rally and stay there (until time for cookies and cocoa).\n(This is for your safety\, as when it is dark drivers cannot see you as well.\nAll of our close-calls have been with people crossing the street.) \nRemain behind the tape placed along the curb.\nFor your signs to be more easily seen and read –\nplease use white posters with black or dark lettering. \nTry to stay in well lit areas. Wear light colored clothing.\nDon’t engage with/distract drivers or agitators.\nDO NOT ESCALATE any confrontation.\n\nWe protest for Democracy\, the Rule Of Law\, and Freedom of Speech!\nProtest against whatever crimes and injustices are being perpetrated by MAGA today.\nBring your signs\nBring your flags.\nPlease be safe!\nThe best parking is behind the Northeast or Southeast corners of the intersection. \nThis a local Indivisible event! A core principle behind all Indivisible events is a commitment to nonviolent action. We expect all participants to seek to de-escalate any potential confrontation with those who disagree with our values.
URL:https://indivisibleca45.org/event/monday-protests-in-brea-30/
LOCATION:Brea\, Imperial Hwy and State College Blvd.\, Brea\, CA\, 92821\, United States
CATEGORIES:Rally
ATTACH;FMTTYPE=image/webp:https://indivisibleca45.org/wp-content/uploads/2026/01/BG2A4327.webp
ORGANIZER;CN="Indivisible CA 45":MAILTO:action@indivisibleca45.org
END:VEVENT
BEGIN:VEVENT
DTSTART;TZID=America/Los_Angeles:20260112T170000
DTEND;TZID=America/Los_Angeles:20260112T183000
DTSTAMP:20260423T153012
CREATED:20260102T232304Z
LAST-MODIFIED:20260102T232437Z
UID:730-1768237200-1768242600@indivisibleca45.org
SUMMARY:Monday Protests in Brea
DESCRIPTION:RAIN CANCELS  \nJoin us every Monday from 5pm to 6:30pm\non all four corners of Imperial Hwy and State College Blvd\n– the busiest intersection in Brea at rush hour. \nWe will be visible to over 5\,000 cars in 90 minutes!\n YES – we still protest in the dark\nWe get honks from a thousand cars every night \nJoin us on Monday\, January 12th\, 2026 for the 46th rally at the four corners of State College Blvd and Imperial Highway in Brea \n \nRSVP here for reminders and additional dates\nhttps://mobilize.us/s/YlMQ0k  optionally\, or just show up! \n \nWe are committed to safe and peaceful protests for everyone! \nSome new safety guidelines starting November 3 rd after the end of Daylight Savings:  \n\n Do not cross streets unless absolutely necessary.\nSelect a corner for the rally and stay there (until time for cookies and cocoa).\n(This is for your safety\, as when it is dark drivers cannot see you as well.\nAll of our close-calls have been with people crossing the street.) \nRemain behind the tape placed along the curb.\nFor your signs to be more easily seen and read –\nplease use white posters with black or dark lettering. \nTry to stay in well lit areas. Wear light colored clothing.\nDon’t engage with/distract drivers or agitators.\nDO NOT ESCALATE any confrontation.\n\nWe protest for Democracy\, the Rule Of Law\, and Freedom of Speech!\nProtest against whatever crimes and injustices are being perpetrated by MAGA today.\nBring your signs\nBring your flags.\nPlease be safe!\nThe best parking is behind the Northeast or Southeast corners of the intersection. \nThis a local Indivisible event! A core principle behind all Indivisible events is a commitment to nonviolent action. We expect all participants to seek to de-escalate any potential confrontation with those who disagree with our values.
URL:https://indivisibleca45.org/event/monday-protests-in-brea-29/
LOCATION:Brea\, Imperial Hwy and State College Blvd.\, Brea\, CA\, 92821\, United States
CATEGORIES:Rally
ATTACH;FMTTYPE=image/webp:https://indivisibleca45.org/wp-content/uploads/2025/11/nightcollage-scaled.webp
ORGANIZER;CN="Indivisible CA 45":MAILTO:action@indivisibleca45.org
END:VEVENT
BEGIN:VEVENT
DTSTART;TZID=America/Los_Angeles:20260105T170000
DTEND;TZID=America/Los_Angeles:20260105T183000
DTSTAMP:20260423T153012
CREATED:20260102T210824Z
LAST-MODIFIED:20260102T225627Z
UID:724-1767632400-1767637800@indivisibleca45.org
SUMMARY:Monday Protests in Brea
DESCRIPTION:RAIN CANCELS  \nJoin us every Monday from 5pm to 6:30pm\non all four corners of Imperial Hwy and State College Blvd\n– the busiest intersection in Brea at rush hour. \nWe will be visible to over 5\,000 cars in 90 minutes!\n YES – we still protest in the dark\nWe get honks from a thousand cars every night \n\n\n\n\nJoin us on Monday\, January 5th\, 2026 for the 45th rally at the four corners of State College Blvd and Imperial Highway in Brea\, CA. \n\n\n\nRSVP here for reminders and additional dates\nhttps://mobilize.us/s/YlMQ0k  optionally\, or just show up! \n \nWe are committed to safe and peaceful protests for everyone! \nSome new safety guidelines starting November 3 rd after the end of Daylight Savings:  \n\n Do not cross streets unless absolutely necessary.\nSelect a corner for the rally and stay there (until time for cookies and cocoa).\n(This is for your safety\, as when it is dark drivers cannot see you as well.\nAll of our close-calls have been with people crossing the street.) \nRemain behind the tape placed along the curb.\nFor your signs to be more easily seen and read –\nplease use white posters with black or dark lettering. \nTry to stay in well lit areas. Wear light colored clothing.\nDon’t engage with/distract drivers or agitators. Do not escalate any confrontation.\n\nWe protest for Democracy\, the Rule Of Law\, and Freedom of Speech!\nProtest against whatever crimes and injustices are being perpetrated by MAGA today.\nBring your signs\nBring your flags.\nPlease be safe!\nThe best parking is behind the Northeast or Southeast corners of the intersection. \nThis a local Indivisible event! A core principle behind all Indivisible events is a commitment to nonviolent action. We expect all participants to seek to de-escalate any potential confrontation with those who disagree with our values.
URL:https://indivisibleca45.org/event/monday-protests-in-brea-28/
LOCATION:Brea\, Imperial Hwy and State College Blvd.\, Brea\, CA\, 92821\, United States
CATEGORIES:Rally
ATTACH;FMTTYPE=image/webp:https://indivisibleca45.org/wp-content/uploads/2025/11/nightcollage-scaled.webp
ORGANIZER;CN="Indivisible CA 45":MAILTO:action@indivisibleca45.org
END:VEVENT
BEGIN:VEVENT
DTSTART;TZID=America/Los_Angeles:20251229T170000
DTEND;TZID=America/Los_Angeles:20251229T183000
DTSTAMP:20260423T153012
CREATED:20251209T061623Z
LAST-MODIFIED:20251209T071531Z
UID:717-1767027600-1767033000@indivisibleca45.org
SUMMARY:Monday Protests in Brea
DESCRIPTION:RAIN CANCELS  \nJoin us every Monday from 5pm to 6:30pm\non all four corners of Imperial Hwy and State College Blvd\n– the busiest intersection in Brea at rush hour. \nWe will be visible to over 5\,000 cars in 90 minutes!\n YES – we still protest in the dark\nWe get honks from a thousand cars every night \n\n\n\n\nOn  Monday\, December 29: \nHelp fill out a wish list for US House of Representative Derek Tran.\nMention the areas and needs that you consider important.\nFrom healthcare\, voting rights\, no wars\, gun control\, ICE’s illegal actions\, supporting Ukraine\, denouncing abuse of power\, conducting oversight on the Trump Cabinet\, etc.\nUse your voice to advocate for a stronger Congress. \n Bring nonperishable food\, cooking oil\, and other non-expiring items to donate to Pathways of Hope TODAY (optional). \n\n\n\nRSVP here for reminders and additional dates\nhttps://mobilize.us/s/YlMQ0k  optionally\, or just show up! \n \nWe are committed to safe and peaceful protests for everyone! \nSome new safety guidelines starting November 3 rd after the end of Daylight Savings:  \n\n Do not cross streets unless absolutely necessary.\nSelect a corner for the rally and stay there (until time for cookies and cocoa).\n(This is for your safety\, as when it is dark drivers cannot see you as well.\nAll of our close-calls have been with people crossing the street.) \nRemain behind the tape placed along the curb.\nFor your signs to be more easily seen and read –\nplease use white posters with black or dark lettering. \nTry to stay in well lit areas. Wear light colored clothing.\nDon’t engage with/distract drivers or agitators. Do not escalate any confrontation.\n\nWe protest for Democracy\, the Rule Of Law\, and Freedom of Speech!\nProtest against whatever crimes and injustices are being perpetrated by MAGA today.\nBring your signs\nBring your flags.\nPlease be safe!\nThe best parking is behind the Northeast or Southeast corners of the intersection. \nThis a local Indivisible event! A core principle behind all Indivisible events is a commitment to nonviolent action. We expect all participants to seek to de-escalate any potential confrontation with those who disagree with our values.
URL:https://indivisibleca45.org/event/monday-protests-in-brea-27/
LOCATION:Brea\, Imperial Hwy and State College Blvd.\, Brea\, CA\, 92821\, United States
CATEGORIES:Rally
ATTACH;FMTTYPE=image/webp:https://indivisibleca45.org/wp-content/uploads/2025/11/nightcollage-scaled.webp
ORGANIZER;CN="Indivisible CA 45":MAILTO:action@indivisibleca45.org
END:VEVENT
BEGIN:VEVENT
DTSTART;TZID=America/Los_Angeles:20251222T170000
DTEND;TZID=America/Los_Angeles:20251222T183000
DTSTAMP:20260423T153012
CREATED:20251209T033700Z
LAST-MODIFIED:20251209T061851Z
UID:709-1766422800-1766428200@indivisibleca45.org
SUMMARY:Monday Protests in Brea
DESCRIPTION:RAIN CANCELS \nJoin us every Monday from 5pm to 6:30pm\non all four corners of Imperial Hwy and State College Blvd\n– the busiest intersection in Brea at rush hour.\nWe will be visible to over 5\,000 cars in 90 minutes!\nYES – we still protest in the dark\nWe get honks from a thousand cars every night \n \nCome for delicious treats and good company on Monday\, December 22.\nRally starts at 5pm and Cookies & Cocoa is at 6pm in front of the now closed Coco’s Restaurant on the South-East Corner of Imperial Hwy and State College.\nThere is plenty of free parking.\nBring nonperishable food\, cooking oil\, and other non-expiring items to donate to Pathways of Hope TODAY (optional). \nWear a Santa hat! \nRSVP here for reminders and additional dates\nhttps://mobilize.us/s/YlMQ0k  optionally\, or just show up!\n \nWe are committed to safe and peaceful protests for everyone! \nSome new safety guidelines starting November 3rd after the end of Daylight Savings: \n\nDo not cross streets unless absolutely necessary.\nSelect a corner for the rally and stay there (until time for cookies and cocoa).\n(This is for your safety\, as when it is dark drivers cannot see you as well.\nAll of our close-calls have been with people crossing the street.)\nRemain behind the tape placed along the curb.\nFor your signs to be more easily seen and read –\nplease use white posters with black or dark lettering.\nTry to stay in well lit areas. Wear light colored clothing.\nDon’t engage with/distract drivers or agitators. Do not escalate any confrontation.\n\nWe protest for Democracy\, the Rule Of Law\, and Freedom of Speech!\nProtest against whatever crimes and injustices are being perpetrated by MAGA today.\nBring your signs\nBring your flags.\nPlease be safe!\nThe best parking is behind the Northeast or Southeast corners of the intersection. \nThis a local Indivisible event! A core principle behind all Indivisible events is a commitment to nonviolent action. We expect all participants to seek to de-escalate any potential confrontation with those who disagree with our values.
URL:https://indivisibleca45.org/event/monday-protests-in-brea-26/
LOCATION:Brea\, Imperial Hwy and State College Blvd.\, Brea\, CA\, 92821\, United States
CATEGORIES:Rally
ATTACH;FMTTYPE=image/webp:https://indivisibleca45.org/wp-content/uploads/2025/11/nightcollage-scaled.webp
ORGANIZER;CN="Indivisible CA 45":MAILTO:action@indivisibleca45.org
END:VEVENT
BEGIN:VEVENT
DTSTART;TZID=America/Los_Angeles:20251215T170000
DTEND;TZID=America/Los_Angeles:20251215T183000
DTSTAMP:20260423T153012
CREATED:20251126T010001Z
LAST-MODIFIED:20251209T024854Z
UID:667-1765818000-1765823400@indivisibleca45.org
SUMMARY:Monday Protests in Brea
DESCRIPTION:RAIN CANCELS \nJoin us every Monday from 5pm to 6:30pm\non all four corners of Imperial Hwy and State College Blvd\n– the busiest intersection in Brea at rush hour.\nWe will be visible to over 5\,000 cars in 90 minutes!\nYES – we still protest in the dark\nWe get honks from a thousand cars every night \nRSVP here for reminders and additional dates\nhttps://mobilize.us/s/YlMQ0k  optionally\, or just show up!\n \nWe are committed to safe and peaceful protests for everyone! \nSome new safety guidelines starting November 3rd after the end of Daylight Savings: \n\nDo not cross streets unless absolutely necessary.\nSelect a corner for the rally and stay there.\n(This is for your safety\, as when it is dark drivers cannot see you as well.\nAll of our close-calls have been with people crossing the street.)\nRemain behind the tape placed along the curb.\nFor your signs to be more easily seen and read –\nplease use white posters with black or dark lettering.\nTry to stay in well lit areas. Wear light colored clothing.\nDon’t engage with/distract drivers or agitators. Do not escalate any confrontation.\n\nWe protest for Democracy\, the Rule Of Law\, and Freedom of Speech!\nProtest against whatever crimes and injustices are being perpetrated by MAGA today.\nBring your signs\nBring your flags.\nPlease be safe!\nThe best parking is behind the Northeast or Southeast corners of the intersection. \nThis a local Indivisible event! A core principle behind all Indivisible events is a commitment to nonviolent action. We expect all participants to seek to de-escalate any potential confrontation with those who disagree with our values.
URL:https://indivisibleca45.org/event/monday-protests-in-brea-24/
LOCATION:Brea\, Imperial Hwy and State College Blvd.\, Brea\, CA\, 92821\, United States
CATEGORIES:Rally
ATTACH;FMTTYPE=image/webp:https://indivisibleca45.org/wp-content/uploads/2025/11/nightcollage-scaled.webp
ORGANIZER;CN="Indivisible CA 45":MAILTO:action@indivisibleca45.org
END:VEVENT
BEGIN:VEVENT
DTSTART;TZID=America/Los_Angeles:20251208T170000
DTEND;TZID=America/Los_Angeles:20251208T183000
DTSTAMP:20260423T153012
CREATED:20251123T082749Z
LAST-MODIFIED:20251123T082749Z
UID:668-1765213200-1765218600@indivisibleca45.org
SUMMARY:Monday Protests in Brea
DESCRIPTION:RAIN CANCELS \nJoin us every Monday from 5pm to 6:30pm\non all four corners of Imperial Hwy and State College Blvd\n– the busiest intersection in Brea at rush hour.\nWe will be visible to over 5\,000 cars in 90 minutes!  \nRSVP here for reminders and additional dates\nhttps://mobilize.us/s/YlMQ0k  optionally\, or just show up!\n \nWe are committed to safe and peaceful protests for everyone! \nSome new safety guidelines starting November 3rd after the end of Daylight Savings: \n\nDo not cross streets unless absolutely necessary.\nSelect a corner for the rally and stay there.\n(This is for your safety\, as when it is dark drivers cannot see you as well.\nAll of our close-calls have been with people crossing the street.)\nRemain behind the tape placed along the curb.\nFor your signs to be more easily seen and read –\nplease use white posters with black or dark lettering.\nTry to stay in well lit areas. Wear light colored clothing.\nDon’t engage with/distract drivers or agitators. Do not escalate any confrontation.\n\nWe protest for Democracy\, the Rule Of Law\, and Freedom of Speech!\nProtest against whatever crimes and injustices are being perpetrated by MAGA today.\nBring your signs\nBring your flags.\nPlease be safe!\nThe best parking is behind the Northeast or Southeast corners of the intersection. \nThis a local Indivisible event! A core principle behind all Indivisible events is a commitment to nonviolent action. We expect all participants to seek to de-escalate any potential confrontation with those who disagree with our values. 
URL:https://indivisibleca45.org/event/monday-protests-in-brea-25/
LOCATION:Brea\, Imperial Hwy and State College Blvd.\, Brea\, CA\, 92821\, United States
CATEGORIES:Rally
ATTACH;FMTTYPE=image/webp:https://indivisibleca45.org/wp-content/uploads/2025/10/10-28-collage-scaled.webp
ORGANIZER;CN="Indivisible CA 45":MAILTO:action@indivisibleca45.org
END:VEVENT
BEGIN:VEVENT
DTSTART;TZID=America/Los_Angeles:20251201T170000
DTEND;TZID=America/Los_Angeles:20251201T183000
DTSTAMP:20260423T153012
CREATED:20251118T081708Z
LAST-MODIFIED:20251123T082625Z
UID:664-1764608400-1764613800@indivisibleca45.org
SUMMARY:Monday Protests in Brea
DESCRIPTION:RAIN CANCELS \nJoin us every Monday from 5pm to 6:30pm\non all four corners of Imperial Hwy and State College Blvd\n– the busiest intersection in Brea at rush hour.\nWe will be visible to over 5\,000 cars in 90 minutes!  \nRSVP here for reminders and additional dates\nhttps://mobilize.us/s/YlMQ0k  optionally\, or just show up!\n \nWe are committed to safe and peaceful protests for everyone! \nSome new safety guidelines starting November 3rd after the end of Daylight Savings: \n\nDo not cross streets unless absolutely necessary.\nSelect a corner for the rally and stay there.\n(This is for your safety\, as when it is dark drivers cannot see you as well.\nAll of our close-calls have been with people crossing the street.)\nRemain behind the tape placed along the curb.\nFor your signs to be more easily seen and read –\nplease use white posters with black or dark lettering.\nTry to stay in well lit areas. Wear light colored clothing.\nDon’t engage with/distract drivers or agitators. Do not escalate any confrontation.\n\nWe protest for Democracy\, the Rule Of Law\, and Freedom of Speech!\nProtest against whatever crimes and injustices are being perpetrated by MAGA today.\nBring your signs\nBring your flags.\nPlease be safe!\nThe best parking is behind the Northeast or Southeast corners of the intersection. \nThis a local Indivisible event! A core principle behind all Indivisible events is a commitment to nonviolent action. We expect all participants to seek to de-escalate any potential confrontation with those who disagree with our values. 
URL:https://indivisibleca45.org/event/monday-protests-in-brea-23/
LOCATION:Brea\, Imperial Hwy and State College Blvd.\, Brea\, CA\, 92821\, United States
CATEGORIES:Rally
ATTACH;FMTTYPE=image/webp:https://indivisibleca45.org/wp-content/uploads/2025/10/10-28-collage-scaled.webp
ORGANIZER;CN="Indivisible CA 45":MAILTO:action@indivisibleca45.org
END:VEVENT
BEGIN:VEVENT
DTSTART;TZID=America/Los_Angeles:20251124T170000
DTEND;TZID=America/Los_Angeles:20251124T183000
DTSTAMP:20260423T153012
CREATED:20251117T083417Z
LAST-MODIFIED:20251123T082927Z
UID:659-1764003600-1764009000@indivisibleca45.org
SUMMARY:Monday Protests in Brea
DESCRIPTION:RAIN CANCELS \nJoin us every Monday from 5pm to 6:30pm\non all four corners of Imperial Hwy and State College Blvd\n– the busiest intersection in Brea at rush hour.\nWe will be visible to over 5\,000 cars in 90 minutes!  \nRSVP here for reminders and additional dates\nhttps://mobilize.us/s/YlMQ0k  optionally\, or just show up!\n \nWe are committed to safe and peaceful protests for everyone! \nSome new safety guidelines starting November 3rd after the end of Daylight Savings: \n\nDo not cross streets unless absolutely necessary.\nSelect a corner for the rally and stay there.\n(This is for your safety\, as when it is dark drivers cannot see you as well.\nAll of our close-calls have been with people crossing the street.)\nRemain behind the tape placed along the curb.\nFor your signs to be more easily seen and read –\nplease use white posters with black or dark lettering.\nTry to stay in well lit areas. Wear light colored clothing.\nDon’t engage with/distract drivers or agitators. Do not escalate any confrontation.\n\nWe protest for Democracy\, the Rule Of Law\, and Freedom of Speech!\nProtest against whatever crimes and injustices are being perpetrated by MAGA today.\nBring your signs\nBring your flags.\nPlease be safe!\nThe best parking is behind the Northeast or Southeast corners of the intersection. \nThis a local Indivisible event! A core principle behind all Indivisible events is a commitment to nonviolent action. We expect all participants to seek to de-escalate any potential confrontation with those who disagree with our values. 
URL:https://indivisibleca45.org/event/monday-protests-in-brea-22/
LOCATION:Brea\, Imperial Hwy and State College Blvd.\, Brea\, CA\, 92821\, United States
CATEGORIES:Rally
ATTACH;FMTTYPE=image/webp:https://indivisibleca45.org/wp-content/uploads/2025/10/10-28-collage-scaled.webp
ORGANIZER;CN="Indivisible CA 45":MAILTO:action@indivisibleca45.org
END:VEVENT
BEGIN:VEVENT
DTSTART;TZID=America/Los_Angeles:20250901T180000
DTEND;TZID=America/Los_Angeles:20250901T193000
DTSTAMP:20260423T153012
CREATED:20250826T182835Z
LAST-MODIFIED:20250826T182835Z
UID:553-1756749600-1756755000@indivisibleca45.org
SUMMARY:LABOR DAY Rally in Brea
DESCRIPTION:Workers Over Billionaires!\nJoin us on LABOR DAY Monday Sept. 1\nFrom 6pm to 7:30pm on all four corners of Imperial Hwy and State College Blvd in Brea.\nRSVP here https://mobilize.us/s/no5mVS  optionally\, or just show up! \n#WorkersOverBillionaires\nLabor and community are planning more than a barbecue on Labor Day this year because we have to stop the billionaire takeover.\nBillionaires are converting the government into their private slush fund and just passed the largest wealth giveaway in the history of the US.\nThe money they take from working families\, they put in billionaires’ pockets and set aside to fund a private army of ICE agents. \nJust like any bad boss\, the way we stop the takeover is with collective action.\nWe are working people rising up to stop the billionaire takeover–not just through the ballot box or the courts\, but through building a bigger and stronger movement.\nWe are growing our movement and fighting for a country that is more fair\, just\, equitable\, and free for all of us—and not just a chosen few. \nOn September 1st we will continue the movement we launched together on May 1st\, standing in solidarity with all our communities under attack and fighting for real wins for all our people. \nThousands of communities across the country are taking a stand on Labor Day\, join us!\nWe will be in the streets\, outside the offices of the corporate criminals who are behind the attacks on our freedoms\, and at congressional offices.\nTogether we will demand a country that puts workers over billionaires. \nOUR DEMANDS TO BUILD THE SOCIETY WE ALL DESERVE: \n\nStop the billionaire takeover corrupting our government.\nProtect and defend Medicaid\, Social Security\, and other programs for working people.\nFully funded schools\, and healthcare and housing for all.\nStop the attacks on immigrants\, Black\, indigenous\, trans people\, and all our communities.\nInvest in people not wars.\n\n\nPlease be safe!\nThe best parking is behind the Northeast or Southeast corners of the intersection. \n 
URL:https://indivisibleca45.org/event/labor-day-rally-in-brea/
LOCATION:Brea\, Imperial Hwy and State College Blvd.\, Brea\, CA\, 92821\, United States
CATEGORIES:Rally
ATTACH;FMTTYPE=image/webp:https://indivisibleca45.org/wp-content/uploads/2025/08/image-labor-day-2025.webp
ORGANIZER;CN="Indivisible CA 45":MAILTO:action@indivisibleca45.org
END:VEVENT
END:VCALENDAR