BEGIN:VCALENDAR
VERSION:2.0
PRODID:-//Indivisible CA45 - ECPv6.15.20//NONSGML v1.0//EN
CALSCALE:GREGORIAN
METHOD:PUBLISH
X-WR-CALNAME:Indivisible CA45
X-ORIGINAL-URL:https://indivisibleca45.org
X-WR-CALDESC:Events for Indivisible CA45
REFRESH-INTERVAL;VALUE=DURATION:PT1H
X-Robots-Tag:noindex
X-PUBLISHED-TTL:PT1H
BEGIN:VTIMEZONE
TZID:America/Los_Angeles
BEGIN:DAYLIGHT
TZOFFSETFROM:-0800
TZOFFSETTO:-0700
TZNAME:PDT
DTSTART:20240310T100000
END:DAYLIGHT
BEGIN:STANDARD
TZOFFSETFROM:-0700
TZOFFSETTO:-0800
TZNAME:PST
DTSTART:20241103T090000
END:STANDARD
BEGIN:DAYLIGHT
TZOFFSETFROM:-0800
TZOFFSETTO:-0700
TZNAME:PDT
DTSTART:20250309T100000
END:DAYLIGHT
BEGIN:STANDARD
TZOFFSETFROM:-0700
TZOFFSETTO:-0800
TZNAME:PST
DTSTART:20251102T090000
END:STANDARD
BEGIN:DAYLIGHT
TZOFFSETFROM:-0800
TZOFFSETTO:-0700
TZNAME:PDT
DTSTART:20260308T100000
END:DAYLIGHT
BEGIN:STANDARD
TZOFFSETFROM:-0700
TZOFFSETTO:-0800
TZNAME:PST
DTSTART:20261101T090000
END:STANDARD
END:VTIMEZONE
BEGIN:VEVENT
DTSTART;TZID=America/Los_Angeles:20250426T103000
DTEND;TZID=America/Los_Angeles:20250426T130000
DTSTAMP:20260424T090625
CREATED:20250417T003453Z
LAST-MODIFIED:20250417T064725Z
UID:373-1745663400-1745672400@indivisibleca45.org
SUMMARY:Indivisible CA 45 In-person Monthly Meeting
DESCRIPTION:Join our in-person meeting in Fullerton 92832\nto organize\, plan\, educate\, and to fight for democracy. \nThis meeting will also be live-streamed on Zoom! \nTo attend the meeting in person or by Zoom\, please RSVP here:\nhttps://www.mobilize.us/indivisible/event/777570/ \nAgenda for April 26\, 2025 \n\nReview of Indivisible CA-45 actions in April\nLessons learned from Pramila Jayapal’s “Resistance Lab”\nVoter Registration\nSafety at rallies/ protests\nOrganizing for May\nWorkgroup organization\n\nWe have expanded the time for our monthly meeting to 2.5 hours to allow for more time to  network personally with each other. \nWe will have sign/poster making materials available on tables. \nWE FIGHT FOR DEMOCRACY
URL:https://indivisibleca45.org/event/indivisible-ca-45-in-person-monthly-meeting/
LOCATION:First Christian Church of Fullerton\, 109 E Wilshire Av\, Fullerton\, CA\, 92832\, United States
CATEGORIES:Meeting
ORGANIZER;CN="Indivisible CA 45":MAILTO:action@indivisibleca45.org
END:VEVENT
BEGIN:VEVENT
DTSTART;TZID=America/Los_Angeles:20250421T170000
DTEND;TZID=America/Los_Angeles:20250421T183000
DTSTAMP:20260424T090625
CREATED:20250408T181655Z
LAST-MODIFIED:20250408T181655Z
UID:358-1745254800-1745260200@indivisibleca45.org
SUMMARY:Weekly Protests
DESCRIPTION:Weekly Protest against Musk\, Trump\, Oligarchy\, and Dictatorship! Join us everyway Monday 5pm-6:30pm at the corner of Imperial Hwy and State College Blvd in Brea.
URL:https://indivisibleca45.org/event/weekly-protests-2/
LOCATION:Brea\, Imperial Hwy and State College Blvd.\, Brea\, CA\, 92821\, United States
ORGANIZER;CN="Indivisible CA 45":MAILTO:action@indivisibleca45.org
END:VEVENT
BEGIN:VEVENT
DTSTART;TZID=America/Los_Angeles:20250414T170000
DTEND;TZID=America/Los_Angeles:20250414T183000
DTSTAMP:20260424T090625
CREATED:20250408T181539Z
LAST-MODIFIED:20250408T181539Z
UID:356-1744650000-1744655400@indivisibleca45.org
SUMMARY:Weekly Protests
DESCRIPTION:Weekly Protest against Musk\, Trump\, Oligarchy\, and Dictatorship! Join us everyway Monday 5pm-6:30pm at the corner of Imperial Hwy and State College Blvd in Brea.
URL:https://indivisibleca45.org/event/weekly-protests/
LOCATION:Brea\, Imperial Hwy and State College Blvd.\, Brea\, CA\, 92821\, United States
ORGANIZER;CN="Indivisible CA 45":MAILTO:action@indivisibleca45.org
END:VEVENT
BEGIN:VEVENT
DTSTART;TZID=America/Los_Angeles:20250405T130000
DTEND;TZID=America/Los_Angeles:20250405T143000
DTSTAMP:20260424T090625
CREATED:20250320T020818Z
LAST-MODIFIED:20250321T132540Z
UID:293-1743858000-1743863400@indivisibleca45.org
SUMMARY:No Kings OC
DESCRIPTION:  Big protest in Santa Ana! National day of action! Bring a sign\, water\, good shoes\, friends\, and family! \nRegister https://bit.ly/NoKingsOC\nProvide Support https://secure.actblue.com/donate/nokingsoc
URL:https://indivisibleca45.org/event/no-kings-oc/
LOCATION:Sasscer Park\, 600 W. Santa Ana Blvd\, Santa Ana\, CA\, 92701\, United States
END:VEVENT
BEGIN:VEVENT
DTSTART;TZID=America/Los_Angeles:20250331T170000
DTEND;TZID=America/Los_Angeles:20250331T183000
DTSTAMP:20260424T090625
CREATED:20250320T015256Z
LAST-MODIFIED:20250321T132229Z
UID:291-1743440400-1743445800@indivisibleca45.org
SUMMARY:Weekly Protest
DESCRIPTION:Weekly Protest against Musk\, Trump\, Oligarchy\, and Dictatorship! Join us everyway Monday 5pm-6:30pm at the corner of Imperial Hwy and State College Blvd in Brea.
URL:https://indivisibleca45.org/event/weekly-protest-2/
LOCATION:Brea\, Imperial Hwy and State College Blvd.\, Brea\, CA\, 92821\, United States
ORGANIZER;CN="Indivisible CA 45":MAILTO:action@indivisibleca45.org
END:VEVENT
BEGIN:VEVENT
DTSTART;TZID=America/Los_Angeles:20250329T110000
DTEND;TZID=America/Los_Angeles:20250329T123000
DTSTAMP:20260424T090625
CREATED:20250319T223911Z
LAST-MODIFIED:20250324T071023Z
UID:273-1743246000-1743251400@indivisibleca45.org
SUMMARY:March Meeting
DESCRIPTION:Monthly Indivisible CA 45 HYBRID meeting\nThis meeting’s primary focus will be on volunteerism for our group as we are growing and need more helping hands.\nIt will be held in Fullerton\, CA 92832.\nRSVP for the in-person meeting at https://mobilize.us/s/k9Z2M0 to receive the address of the venue in Fullerton. \nYou can sign up for the ZOOM view of the live meeting here\nhttps://bit.ly/ca45zoom-3-29-25
URL:https://indivisibleca45.org/event/march-meeting/
LOCATION:First Christian Church of Fullerton\, 109 E Wilshire Av\, Fullerton\, CA\, 92832\, United States
ORGANIZER;CN="Indivisible CA 45":MAILTO:action@indivisibleca45.org
END:VEVENT
BEGIN:VEVENT
DTSTART;TZID=America/Los_Angeles:20250324T170000
DTEND;TZID=America/Los_Angeles:20250324T183000
DTSTAMP:20260424T090625
CREATED:20250320T000230Z
LAST-MODIFIED:20250320T014451Z
UID:282-1742835600-1742841000@indivisibleca45.org
SUMMARY:Weekly Protest
DESCRIPTION:Weekly Protest against Musk\, Trump\, Oligarchy\, and Dictatorship! Join us everyway Monday 5pm-6:30pm at the corner of Imperial Hwy and State College Blvd in Brea.
URL:https://indivisibleca45.org/event/weekly-protest/
LOCATION:Brea\, Imperial Hwy and State College Blvd.\, Brea\, CA\, 92821\, United States
ORGANIZER;CN="Debbie Langenbacher":MAILTO:action@indivisibleca45.org
END:VEVENT
END:VCALENDAR