BEGIN:VCALENDAR
VERSION:2.0
PRODID:-//Indivisible CA45 - ECPv6.15.20//NONSGML v1.0//EN
CALSCALE:GREGORIAN
METHOD:PUBLISH
X-WR-CALNAME:Indivisible CA45
X-ORIGINAL-URL:https://indivisibleca45.org
X-WR-CALDESC:Events for Indivisible CA45
REFRESH-INTERVAL;VALUE=DURATION:PT1H
X-Robots-Tag:noindex
X-PUBLISHED-TTL:PT1H
BEGIN:VTIMEZONE
TZID:America/Los_Angeles
BEGIN:DAYLIGHT
TZOFFSETFROM:-0800
TZOFFSETTO:-0700
TZNAME:PDT
DTSTART:20250309T100000
END:DAYLIGHT
BEGIN:STANDARD
TZOFFSETFROM:-0700
TZOFFSETTO:-0800
TZNAME:PST
DTSTART:20251102T090000
END:STANDARD
BEGIN:DAYLIGHT
TZOFFSETFROM:-0800
TZOFFSETTO:-0700
TZNAME:PDT
DTSTART:20260308T100000
END:DAYLIGHT
BEGIN:STANDARD
TZOFFSETFROM:-0700
TZOFFSETTO:-0800
TZNAME:PST
DTSTART:20261101T090000
END:STANDARD
BEGIN:DAYLIGHT
TZOFFSETFROM:-0800
TZOFFSETTO:-0700
TZNAME:PDT
DTSTART:20270314T100000
END:DAYLIGHT
BEGIN:STANDARD
TZOFFSETFROM:-0700
TZOFFSETTO:-0800
TZNAME:PST
DTSTART:20271107T090000
END:STANDARD
END:VTIMEZONE
BEGIN:VEVENT
DTSTART;TZID=America/Los_Angeles:20260216T170000
DTEND;TZID=America/Los_Angeles:20260216T183000
DTSTAMP:20260423T153043
CREATED:20260204T235939Z
LAST-MODIFIED:20260216T072512Z
UID:773-1771261200-1771266600@indivisibleca45.org
SUMMARY:Monday Protest in Brea CANCELLED 2/16/26
DESCRIPTION:Due to a prediction of 98% chance of rain before\, during and after our 5pm-630 protest time slot in Brea on Monday\, the protest will be CANCELLED on Monday 2/16/26. See you next week! \n\nRAIN CANCELS  \nJoin us every Monday from 5pm to 6:30pm\non all four corners of Imperial Hwy and State College Blvd\n– the busiest intersection in Brea at rush hour. \nWe will be visible to over 5\,000 cars in 90 minutes!\n YES – we still protest in the dark\nWe get honks from a thousand cars every night \nJoin us on Monday\, February 16th\, 2026 for a rally at the four corners of State College Blvd and Imperial Highway in Brea \n \nRSVP here for reminders and additional dates\nhttps://mobilize.us/s/YlMQ0k  optionally\, or just show up! \n \nWe are committed to safe and peaceful protests for everyone! \nSome new safety guidelines starting November 3 rd after the end of Daylight Savings:  \n\n Do not cross streets unless absolutely necessary.\nSelect a corner for the rally and stay there (until time for cookies and cocoa).\n(This is for your safety\, as when it is dark drivers cannot see you as well.\nAll of our close-calls have been with people crossing the street.) \nRemain behind the tape placed along the curb.\nFor your signs to be more easily seen and read –\nplease use white posters with black or dark lettering. \nTry to stay in well lit areas. Wear light colored clothing.\nDon’t engage with/distract drivers or agitators.\nDO NOT ESCALATE any confrontation.\n\nWe protest for Democracy\, the Rule Of Law\, and Freedom of Speech!\nProtest against whatever crimes and injustices are being perpetrated by MAGA today.\nBring your signs\nBring your flags.\nPlease be safe!\nThe best parking is behind the Northeast or Southeast corners of the intersection. \nThis a local Indivisible event! A core principle behind all Indivisible events is a commitment to nonviolent action. We expect all participants to seek to de-escalate any potential confrontation with those who disagree with our values.
URL:https://indivisibleca45.org/event/monday-protests-in-brea-34/
LOCATION:Brea\, Imperial Hwy and State College Blvd.\, Brea\, CA\, 92821\, United States
CATEGORIES:Rally
ATTACH;FMTTYPE=image/webp:https://indivisibleca45.org/wp-content/uploads/2026/01/BG2A4327.webp
ORGANIZER;CN="Indivisible CA 45":MAILTO:action@indivisibleca45.org
END:VEVENT
BEGIN:VEVENT
DTSTART;TZID=America/Los_Angeles:20260222T123000
DTEND;TZID=America/Los_Angeles:20260222T153000
DTSTAMP:20260423T153043
CREATED:20260218T004244Z
LAST-MODIFIED:20260218T005034Z
UID:788-1771763400-1771774200@indivisibleca45.org
SUMMARY:Fullerton Panel Presentation on Immigration
DESCRIPTION:Please come to the “Immigration Panel” bi-lingual presentation on Sunday 2/22/26\, 1:30 PM\nat First Christian Church\, 109 E Wilshire Ave\, Fullerton\, CA 92832\,\nor register in advance to watch on zoom\, at bit.ly/Fullerton4all . \n\n\n\nAnd come to a build your own tacos fundraising lunch for Camino Immigration Services at 12:30 PM before the main event.
URL:https://indivisibleca45.org/event/fullerton-panel-presentation-on-immigration/
LOCATION:First Christian Church of Fullerton\, 109 E Wilshire Av\, Fullerton\, CA\, 92832\, United States
END:VEVENT
BEGIN:VEVENT
DTSTART;TZID=America/Los_Angeles:20260223T170000
DTEND;TZID=America/Los_Angeles:20260223T183000
DTSTAMP:20260423T153043
CREATED:20260205T000329Z
LAST-MODIFIED:20260205T000329Z
UID:775-1771866000-1771871400@indivisibleca45.org
SUMMARY:Monday Protests in Brea
DESCRIPTION:RAIN CANCELS  \nJoin us every Monday from 5pm to 6:30pm\non all four corners of Imperial Hwy and State College Blvd\n– the busiest intersection in Brea at rush hour. \nWe will be visible to over 5\,000 cars in 90 minutes!\n YES – we still protest in the dark\nWe get honks from a thousand cars every night \nJoin us on Monday\, February 23rd\, 2026 for a rally at the four corners of State College Blvd and Imperial Highway in Brea \n \nRSVP here for reminders and additional dates\nhttps://mobilize.us/s/YlMQ0k  optionally\, or just show up! \n \nWe are committed to safe and peaceful protests for everyone! \nSome new safety guidelines starting November 3 rd after the end of Daylight Savings:  \n\n Do not cross streets unless absolutely necessary.\nSelect a corner for the rally and stay there (until time for cookies and cocoa).\n(This is for your safety\, as when it is dark drivers cannot see you as well.\nAll of our close-calls have been with people crossing the street.) \nRemain behind the tape placed along the curb.\nFor your signs to be more easily seen and read –\nplease use white posters with black or dark lettering. \nTry to stay in well lit areas. Wear light colored clothing.\nDon’t engage with/distract drivers or agitators.\nDO NOT ESCALATE any confrontation.\n\nWe protest for Democracy\, the Rule Of Law\, and Freedom of Speech!\nProtest against whatever crimes and injustices are being perpetrated by MAGA today.\nBring your signs\nBring your flags.\nPlease be safe!\nThe best parking is behind the Northeast or Southeast corners of the intersection. \nThis a local Indivisible event! A core principle behind all Indivisible events is a commitment to nonviolent action. We expect all participants to seek to de-escalate any potential confrontation with those who disagree with our values.
URL:https://indivisibleca45.org/event/monday-protests-in-brea-35/
LOCATION:Brea\, Imperial Hwy and State College Blvd.\, Brea\, CA\, 92821\, United States
CATEGORIES:Rally
ATTACH;FMTTYPE=image/webp:https://indivisibleca45.org/wp-content/uploads/2026/01/BG2A4327.webp
ORGANIZER;CN="Indivisible CA 45":MAILTO:action@indivisibleca45.org
END:VEVENT
BEGIN:VEVENT
DTSTART;TZID=America/Los_Angeles:20260228T110000
DTEND;TZID=America/Los_Angeles:20260228T123000
DTSTAMP:20260423T153043
CREATED:20260211T002825Z
LAST-MODIFIED:20260211T002825Z
UID:779-1772276400-1772281800@indivisibleca45.org
SUMMARY:Indivisible CA 45 Monthly Group Meeting
DESCRIPTION:Join Indivisible CA 45 for our February Monthly Meeting.\nPlanned Parenthood of Orange and San Bernardino Counties will be our featured presenter\,\nincluding Q & A and an “interactive” session.\nWe will also review past and future events\, including\n\npast protests\nupcoming No Kings events on March 28th\nRepresentative Derek Tran’s office visits\n\nWe will be in our favored location\nFullerton Community Center\, Classroom #1\n340 W Commonwealth Ave\, Fullerton\, CA 92832 \n11AM to 12:30 PM Saturday 2/28/2026 \nYou may register at https://www.mobilize.us/indivisible/event/900607/\nfor reminders and updates.
URL:https://indivisibleca45.org/event/indivisible-ca-45-monthly-group-meeting-2/
LOCATION:Fullerton Community Center\, 340 W Commonwealth Ave\, Fullerton\, CA\, 92832\, United States
CATEGORIES:Meeting
ATTACH;FMTTYPE=image/webp:https://indivisibleca45.org/wp-content/uploads/2026/02/meeting_banner.webp
ORGANIZER;CN="Indivisible CA 45":MAILTO:action@indivisibleca45.org
END:VEVENT
BEGIN:VEVENT
DTSTART;TZID=America/Los_Angeles:20260302T170000
DTEND;TZID=America/Los_Angeles:20260302T183000
DTSTAMP:20260423T153043
CREATED:20260205T001053Z
LAST-MODIFIED:20260301T081138Z
UID:777-1772470800-1772476200@indivisibleca45.org
SUMMARY:52nd Monday Protest in Brea!
DESCRIPTION:ONE YEAR ANNIVERSARY  \nJoin us TO CELEBRATE a full year of protests every Monday from 5pm to 6:30pm\non all four corners of Imperial Hwy and State College Blvd\n– the busiest intersection in Brea at rush hour.  \nJoin us on Monday\, March 2nd\, 2026 for a rally at the four corners of State College Blvd and Imperial Highway in Brea \n \nRSVP here for reminders and additional dates\nhttps://mobilize.us/s/YlMQ0k \, or just show up! \n \nWe are committed to safe and peaceful protests for everyone! \nSome new safety guidelines starting November 3 rd after the end of Daylight Savings:  \n\n Do not cross streets unless absolutely necessary.\nSelect a corner for the rally and stay there.\n(This is for your safety\, as when it is dark drivers cannot see you as well.\nAll of our close-calls have been with people crossing the street.) \nRemain behind the tape placed along the curb.\nFor your signs to be more easily seen and read –\nplease use white posters with black or dark lettering. \nTry to stay in well lit areas. Wear light colored clothing.\nDon’t engage with/distract drivers or agitators.\nDO NOT ESCALATE any confrontation.\n\nWe protest for Democracy\, the Rule Of Law\, and Freedom of Speech!\nProtest against whatever crimes and injustices are being perpetrated by MAGA today.\nBring your signs\nBring your flags.\nPlease be safe!\nThe best parking is behind the Northeast or Southeast corners of the intersection. \nThis a local Indivisible event! A core principle behind all Indivisible events is a commitment to nonviolent action. We expect all participants to seek to de-escalate any potential confrontation with those who disagree with our values.
URL:https://indivisibleca45.org/event/52nd-monday-protest-in-brea/
LOCATION:Brea\, Imperial Hwy and State College Blvd.\, Brea\, CA\, 92821\, United States
CATEGORIES:Rally
ATTACH;FMTTYPE=image/webp:https://indivisibleca45.org/wp-content/uploads/2026/01/BG2A4327.webp
ORGANIZER;CN="Indivisible CA 45":MAILTO:action@indivisibleca45.org
END:VEVENT
BEGIN:VEVENT
DTSTART;TZID=America/Los_Angeles:20260309T170000
DTEND;TZID=America/Los_Angeles:20260309T183000
DTSTAMP:20260423T153043
CREATED:20260301T080642Z
LAST-MODIFIED:20260301T080642Z
UID:817-1773075600-1773081000@indivisibleca45.org
SUMMARY:Weekly Mondays Protest in Brea!
DESCRIPTION:No ICE\, No War\, No Oligarchs  \nWe protest EVERY MONDAY for over a year\, from 5pm to 6:30pm\non all four corners of Imperial Hwy and State College Blvd\n– the busiest intersection in Brea at rush hour.  \nJoin us on Monday\, March 9th\, 2026 for a rally at the four corners of State College Blvd and Imperial Highway in Brea \n \nRSVP here for reminders and additional dates\nhttps://mobilize.us/s/YlMQ0k  optionally\, or just show up! \n \nWe are committed to safe and peaceful protests for everyone! \nSafety guidelines during Daylight Savings:  \n\nPlease minimize street crossing – the traffic is intense.\nRemain behind the tape placed along the curb.\nFor your signs to be more easily seen and read –\nplease use white posters with black or dark lettering. \nDon’t engage with/distract drivers or agitators.\nDO NOT ESCALATE any confrontation.\n\nWe protest for Democracy\, the Rule Of Law\, and Freedom of Speech!\nProtest against whatever crimes and injustices are being perpetrated by MAGA today.\nBring your signs\nBring your flags.\nPlease be safe!\nThe best parking is behind the Northeast or Southeast corners of the intersection. \nThis a local Indivisible event! A core principle behind all Indivisible events is a commitment to nonviolent action. We expect all participants to seek to de-escalate any potential confrontation with those who disagree with our values.
URL:https://indivisibleca45.org/event/weekly-mondays-protest-in-brea/
LOCATION:Brea\, Imperial Hwy and State College Blvd.\, Brea\, CA\, 92821\, United States
CATEGORIES:Rally
ATTACH;FMTTYPE=image/webp:https://indivisibleca45.org/wp-content/uploads/2026/01/BG2A4327.webp
ORGANIZER;CN="Indivisible CA 45":MAILTO:action@indivisibleca45.org
END:VEVENT
BEGIN:VEVENT
DTSTART;TZID=America/Los_Angeles:20260321T110000
DTEND;TZID=America/Los_Angeles:20260321T123000
DTSTAMP:20260423T153043
CREATED:20260313T235700Z
LAST-MODIFIED:20260318T051956Z
UID:830-1774090800-1774096200@indivisibleca45.org
SUMMARY:Indivisible CA 45 Monthly Group Meeting
DESCRIPTION:Join Indivisible CA 45 for our March Monthly Meeting.\nAda Briceño\nAda Briceño will be our special guest!\nAgenda includes\n\nNo Kings – What We’re doing\, and what are your other options\nPrimary Election 2026\nRedistricting – how it works\, how CA 45 has changed\n\nYou may register at https://www.mobilize.us/indivisible/event/921172/\nfor reminders and updates. \nWe will be in our favored location\nFullerton Community Center\, but in Classroom #2\n340 W Commonwealth Ave\, Fullerton\, CA 92832 \n11 AM to 12:30 PM Saturday 3/21/2026 \nCongressional District 45 before and after prop. 50.
URL:https://indivisibleca45.org/event/indivisible-ca-45-monthly-group-meeting-3/
LOCATION:Fullerton Community Center\, 340 W Commonwealth Ave\, Fullerton\, CA\, 92832\, United States
CATEGORIES:Meeting
ATTACH;FMTTYPE=image/webp:https://indivisibleca45.org/wp-content/uploads/2026/03/JustNoKings.webp
ORGANIZER;CN="Indivisible CA 45":MAILTO:action@indivisibleca45.org
END:VEVENT
BEGIN:VEVENT
DTSTART;VALUE=DATE:20260328
DTEND;VALUE=DATE:20260329
DTSTAMP:20260423T153043
CREATED:20260219T074748Z
LAST-MODIFIED:20260316T055422Z
UID:802-1774656000-1774742399@indivisibleca45.org
SUMMARY:NO KINGS March 28
DESCRIPTION:No Kings\, No Dictators\, No War\, No ICE!  \n “The Big One” for OC\, in   Anaheim\nLa Palma Park – N Harbor Blvd and W La Palma\, Anaheim 92801 \n 2 PM – 5PM  \nother smaller rallies: \n10 AM \n\nLa Habra — Imperial Hwy& S Beach Blvd\nLakewood\nOrange\n(Yorba Linda has been CANCELLED)\n\n10:30 AM \n\nSanta Ana\n\n11 AM \n\nWestminster\n\nNOON \n\nChino Hills\nParamount\nLong Beach\nSeal Beach\n\n2:30 pm \n\nWhittier\nIndivisible CA 45 will be tabling at the Whittier event\,\n2:30 PM – 4:30 PM at  Kennedy Park\, Whittier\, CA 90605\n\nFor official updates on No King locations\, see   https://NoKings.org   \nAliso Viejo – https://www.mobilize.us/ocindivisible/event/904723/\nChino Hills – https://www.mobilize.us/nokings/event/905463/\nCorona – https://www.mobilize.us/nokings/event/901480/\nAnaheim – https://www.mobilize.us/ocindivisible/event/904732/\nDana Point – https://www.mobilize.us/ocindivisible/event/902412/\nHuntington Beach OC Huddle –  https://www.mobilize.us/nokings/event/906314/\nHuntington Beach Pier – https://www.mobilize.us/ocindivisible/event/900732/\nLa Habra – https://www.mobilize.us/ocindivisible/event/903926/\nLaguna Beach – https://www.mobilize.us/ocindivisible/event/900916/\nLaguna Woods – https://www.mobilize.us/ocindivisible/event/902660/\nLakewood – https://www.mobilize.us/nokings/event/900790/\nNewport Beach – https://www.mobilize.us/ocindivisible/event/906262/\nOrange – https://www.mobilize.us/ocindivisible/event/906285/\nSan Clemente Banner Drop – https://www.mobilize.us/ocindivisible/event/906240/\nSanta Ana – https://www.mobilize.us/ocindivisible/event/910295/\nSeal Beach – https://www.mobilize.us/ocindivisible/event/901061/\nSunset Beach – https://www.mobilize.us/ocindivisible/event/906314/\nWestminster – https://www.mobilize.us/ocindivisible/event/904507/\nWhittier – https://www.mobilize.us/nokings/event/901474/
URL:https://indivisibleca45.org/event/no-kings-3-north-oc/
LOCATION:CA
CATEGORIES:Rally
ATTACH;FMTTYPE=image/webp:https://indivisibleca45.org/wp-content/uploads/2026/02/No-Kings-March-2025-event-date-larger-dimensions.webp
END:VEVENT
BEGIN:VEVENT
DTSTART;TZID=America/Los_Angeles:20260330T170000
DTEND;TZID=America/Los_Angeles:20260330T183000
DTSTAMP:20260423T153043
CREATED:20260326T224043Z
LAST-MODIFIED:20260326T224043Z
UID:861-1774890000-1774895400@indivisibleca45.org
SUMMARY:Weekly Mondays Protest in Brea!
DESCRIPTION:No ICE\, No War\, No Oligarchs  \nWe protest EVERY MONDAY for over a year\, from 5pm to 6:30pm\non all four corners of Imperial Hwy and State College Blvd\n– the busiest intersection in Brea at rush hour.  \nJoin us EVERY Monday for a rally at the four corners of State College Blvd and Imperial Highway in Brea \n \nRSVP here for reminders and additional dates\nhttps://mobilize.us/s/YlMQ0k  optionally\, or just show up! \n \nWe are committed to safe and peaceful protests for everyone! \nSafety guidelines during Daylight Savings:  \n\nPlease minimize street crossing – the traffic is intense.\nRemain behind the tape placed along the curb.\nFor your signs to be more easily seen and read –\nplease use white posters with black or dark lettering. \nDon’t engage with/distract drivers or agitators.\nDO NOT ESCALATE any confrontation.\n\nWe protest for Democracy\, the Rule Of Law\, and Freedom of Speech!\nProtest against whatever crimes and injustices are being perpetrated by MAGA today.\nBring your signs\nBring your flags.\nPlease be safe!\nThe best parking is behind the Northeast or Southeast corners of the intersection. \nThis a local Indivisible event! A core principle behind all Indivisible events is a commitment to nonviolent action. We expect all participants to seek to de-escalate any potential confrontation with those who disagree with our values.
URL:https://indivisibleca45.org/event/weekly-mondays-protest-in-brea-2/
LOCATION:Brea\, Imperial Hwy and State College Blvd.\, Brea\, CA\, 92821\, United States
CATEGORIES:Rally
ATTACH;FMTTYPE=image/webp:https://indivisibleca45.org/wp-content/uploads/2026/01/BG2A4327.webp
ORGANIZER;CN="Indivisible CA 45":MAILTO:action@indivisibleca45.org
END:VEVENT
BEGIN:VEVENT
DTSTART;TZID=America/Los_Angeles:20260406T170000
DTEND;TZID=America/Los_Angeles:20260406T183000
DTSTAMP:20260423T153043
CREATED:20260403T183905Z
LAST-MODIFIED:20260403T183905Z
UID:876-1775494800-1775500200@indivisibleca45.org
SUMMARY:Weekly Mondays Protest in Brea!
DESCRIPTION:No ICE\, No War\, No Oligarchs  \nWe protest EVERY MONDAY for over a year\, from 5pm to 6:30pm\non all four corners of Imperial Hwy and State College Blvd\n– the busiest intersection in Brea at rush hour.  \nJoin us EVERY Monday for a rally at the four corners of State College Blvd and Imperial Highway in Brea \n \nRSVP here for reminders and additional dates\nhttps://mobilize.us/s/YlMQ0k  optionally\, or just show up! \n \nWe are committed to safe and peaceful protests for everyone! \nSafety guidelines during Daylight Savings:  \n\nPlease minimize street crossing – the traffic is intense.\nRemain behind the tape placed along the curb.\nFor your signs to be more easily seen and read –\nplease use white posters with black or dark lettering. \nDon’t engage with/distract drivers or agitators.\nDO NOT ESCALATE any confrontation.\n\nWe protest for Democracy\, the Rule Of Law\, and Freedom of Speech!\nProtest against whatever crimes and injustices are being perpetrated by MAGA today.\nBring your signs\nBring your flags.\nPlease be safe!\nThe best parking is behind the Northeast or Southeast corners of the intersection. \nThis a local Indivisible event! A core principle behind all Indivisible events is a commitment to nonviolent action. We expect all participants to seek to de-escalate any potential confrontation with those who disagree with our values.
URL:https://indivisibleca45.org/event/weekly-mondays-protest-in-brea-3/
LOCATION:Brea\, Imperial Hwy and State College Blvd.\, Brea\, CA\, 92821\, United States
CATEGORIES:Rally
ATTACH;FMTTYPE=image/webp:https://indivisibleca45.org/wp-content/uploads/2026/01/BG2A4327.webp
ORGANIZER;CN="Indivisible CA 45":MAILTO:action@indivisibleca45.org
END:VEVENT
BEGIN:VEVENT
DTSTART;TZID=America/Los_Angeles:20260413T170000
DTEND;TZID=America/Los_Angeles:20260413T183000
DTSTAMP:20260423T153043
CREATED:20260403T195845Z
LAST-MODIFIED:20260403T195845Z
UID:878-1776099600-1776105000@indivisibleca45.org
SUMMARY:Weekly Mondays Protest in Brea!
DESCRIPTION:No ICE\, No War\, No Oligarchs  \nWe protest EVERY MONDAY for over a year\, from 5pm to 6:30pm\non all four corners of Imperial Hwy and State College Blvd\n– the busiest intersection in Brea at rush hour.  \nJoin us EVERY Monday for a rally at the four corners of State College Blvd and Imperial Highway in Brea \n \nRSVP here for reminders and additional dates\nhttps://mobilize.us/s/YlMQ0k  optionally\, or just show up! \n \nWe are committed to safe and peaceful protests for everyone! \nSafety guidelines during Daylight Savings:  \n\nPlease minimize street crossing – the traffic is intense.\nRemain behind the tape placed along the curb.\nFor your signs to be more easily seen and read –\nplease use white posters with black or dark lettering. \nDon’t engage with/distract drivers or agitators.\nDO NOT ESCALATE any confrontation.\n\nWe protest for Democracy\, the Rule Of Law\, and Freedom of Speech!\nProtest against whatever crimes and injustices are being perpetrated by MAGA today.\nBring your signs\nBring your flags.\nPlease be safe!\nThe best parking is behind the Northeast or Southeast corners of the intersection. \nThis a local Indivisible event! A core principle behind all Indivisible events is a commitment to nonviolent action. We expect all participants to seek to de-escalate any potential confrontation with those who disagree with our values.
URL:https://indivisibleca45.org/event/weekly-mondays-protest-in-brea-4/
LOCATION:Brea\, Imperial Hwy and State College Blvd.\, Brea\, CA\, 92821\, United States
CATEGORIES:Rally
ATTACH;FMTTYPE=image/webp:https://indivisibleca45.org/wp-content/uploads/2026/01/BG2A4327.webp
ORGANIZER;CN="Indivisible CA 45":MAILTO:action@indivisibleca45.org
END:VEVENT
BEGIN:VEVENT
DTSTART;TZID=America/Los_Angeles:20260420T170000
DTEND;TZID=America/Los_Angeles:20260420T183000
DTSTAMP:20260423T153043
CREATED:20260403T200727Z
LAST-MODIFIED:20260403T200727Z
UID:880-1776704400-1776709800@indivisibleca45.org
SUMMARY:Weekly Mondays Protest in Brea!
DESCRIPTION:No ICE\, No War\, No Oligarchs  \nWe protest EVERY MONDAY for over a year\, from 5pm to 6:30pm\non all four corners of Imperial Hwy and State College Blvd\n– the busiest intersection in Brea at rush hour.  \nJoin us EVERY Monday for a rally at the four corners of State College Blvd and Imperial Highway in Brea \n \nRSVP here for reminders and additional dates\nhttps://mobilize.us/s/YlMQ0k  optionally\, or just show up! \n \nWe are committed to safe and peaceful protests for everyone! \nSafety guidelines during Daylight Savings:  \n\nPlease minimize street crossing – the traffic is intense.\nRemain behind the tape placed along the curb.\nFor your signs to be more easily seen and read –\nplease use white posters with black or dark lettering. \nDon’t engage with/distract drivers or agitators.\nDO NOT ESCALATE any confrontation.\n\nWe protest for Democracy\, the Rule Of Law\, and Freedom of Speech!\nProtest against whatever crimes and injustices are being perpetrated by MAGA today.\nBring your signs\nBring your flags.\nPlease be safe!\nThe best parking is behind the Northeast or Southeast corners of the intersection. \nThis a local Indivisible event! A core principle behind all Indivisible events is a commitment to nonviolent action. We expect all participants to seek to de-escalate any potential confrontation with those who disagree with our values.
URL:https://indivisibleca45.org/event/weekly-mondays-protest-in-brea-5/
LOCATION:Brea\, Imperial Hwy and State College Blvd.\, Brea\, CA\, 92821\, United States
CATEGORIES:Rally
ATTACH;FMTTYPE=image/webp:https://indivisibleca45.org/wp-content/uploads/2026/01/BG2A4327.webp
ORGANIZER;CN="Indivisible CA 45":MAILTO:action@indivisibleca45.org
END:VEVENT
BEGIN:VEVENT
DTSTART;TZID=America/Los_Angeles:20260425T110000
DTEND;TZID=America/Los_Angeles:20260425T123000
DTSTAMP:20260423T153043
CREATED:20260326T202305Z
LAST-MODIFIED:20260329T020159Z
UID:849-1777114800-1777120200@indivisibleca45.org
SUMMARY:Indivisible CA 45 Monthly Group Meeting
DESCRIPTION:Join Indivisible CA 45 for our April Monthly Meeting.\nWe will be in our favored \nFullerton Community Center\n340 W Commonwealth Ave\, Fullerton\, CA 92832 \n11 AM to 12:30 PM Saturday 4/25/2026 \nSpecial guest\, Mayor of Buena Park\, Connor Traut\nAgenda tentatively includes\n\nThe results of our previous participation in NO KINGS III in La Habra AND Whittier\nOur protests every Monday at rush hour in Brea\nThe upcoming “primary” Election in June\nFuture plans.\n\nYou may register at https://www.mobilize.us/indivisible/event/929009/\nfor reminders and updates. \n 
URL:https://indivisibleca45.org/event/__trashed/
LOCATION:Fullerton Community Center\, 340 W Commonwealth Ave\, Fullerton\, CA\, 92832\, United States
CATEGORIES:Meeting
ORGANIZER;CN="Indivisible CA 45":MAILTO:action@indivisibleca45.org
END:VEVENT
BEGIN:VEVENT
DTSTART;TZID=America/Los_Angeles:20260427T170000
DTEND;TZID=America/Los_Angeles:20260427T183000
DTSTAMP:20260423T153043
CREATED:20260414T065711Z
LAST-MODIFIED:20260414T065711Z
UID:883-1777309200-1777314600@indivisibleca45.org
SUMMARY:Weekly Mondays Protest in Brea!
DESCRIPTION:No ICE\, No War\, No Oligarchs  \nWe protest EVERY MONDAY for over a year\, from 5pm to 6:30pm\non all four corners of Imperial Hwy and State College Blvd\n– the busiest intersection in Brea at rush hour.  \nJoin us EVERY Monday for a rally at the four corners of State College Blvd and Imperial Highway in Brea \n \nRSVP here for reminders and additional dates\nhttps://mobilize.us/s/YlMQ0k  optionally\, or just show up! \n \nWe are committed to safe and peaceful protests for everyone! \nSafety guidelines during Daylight Savings:  \n\nPlease minimize street crossing – the traffic is intense.\nRemain behind the tape placed along the curb.\nFor your signs to be more easily seen and read –\nplease use white posters with black or dark lettering. \nDon’t engage with/distract drivers or agitators.\nDO NOT ESCALATE any confrontation.\n\nWe protest for Democracy\, the Rule Of Law\, and Freedom of Speech!\nProtest against whatever crimes and injustices are being perpetrated by MAGA today.\nBring your signs\nBring your flags.\nPlease be safe!\nThe best parking is behind the Northeast or Southeast corners of the intersection. \nThis a local Indivisible event! A core principle behind all Indivisible events is a commitment to nonviolent action. We expect all participants to seek to de-escalate any potential confrontation with those who disagree with our values.
URL:https://indivisibleca45.org/event/weekly-mondays-protest-in-brea-6/
LOCATION:Brea\, Imperial Hwy and State College Blvd.\, Brea\, CA\, 92821\, United States
CATEGORIES:Rally
ATTACH;FMTTYPE=image/webp:https://indivisibleca45.org/wp-content/uploads/2026/01/BG2A4327.webp
ORGANIZER;CN="Indivisible CA 45":MAILTO:action@indivisibleca45.org
END:VEVENT
BEGIN:VEVENT
DTSTART;VALUE=DATE:20260501
DTEND;VALUE=DATE:20260502
DTSTAMP:20260423T153043
CREATED:20260421T090431Z
LAST-MODIFIED:20260421T090829Z
UID:887-1777593600-1777679999@indivisibleca45.org
SUMMARY:MAYDAY STRONG
DESCRIPTION:May 1\, 2026\nSave the date.  \nWe will rally at our usual spot by the Brea Mall to call for \nA Nationwide Day of Collective Action\nNo Work\, No School\, No Shopping\nDetails will follow.
URL:https://indivisibleca45.org/event/mayday-strong/
LOCATION:Brea\, Imperial Hwy and State College Blvd.\, Brea\, CA\, 92821\, United States
ATTACH;FMTTYPE=image/png:https://indivisibleca45.org/wp-content/uploads/2025/08/WORKERSMEGAPHONE_BANNER.png
ORGANIZER;CN="Indivisible CA 45":MAILTO:action@indivisibleca45.org
END:VEVENT
END:VCALENDAR