BEGIN:VCALENDAR
VERSION:2.0
PRODID:-//Indivisible CA45 - ECPv6.15.20//NONSGML v1.0//EN
CALSCALE:GREGORIAN
METHOD:PUBLISH
X-ORIGINAL-URL:https://indivisibleca45.org
X-WR-CALDESC:Events for Indivisible CA45
REFRESH-INTERVAL;VALUE=DURATION:PT1H
X-Robots-Tag:noindex
X-PUBLISHED-TTL:PT1H
BEGIN:VTIMEZONE
TZID:America/Los_Angeles
BEGIN:DAYLIGHT
TZOFFSETFROM:-0800
TZOFFSETTO:-0700
TZNAME:PDT
DTSTART:20240310T100000
END:DAYLIGHT
BEGIN:STANDARD
TZOFFSETFROM:-0700
TZOFFSETTO:-0800
TZNAME:PST
DTSTART:20241103T090000
END:STANDARD
BEGIN:DAYLIGHT
TZOFFSETFROM:-0800
TZOFFSETTO:-0700
TZNAME:PDT
DTSTART:20250309T100000
END:DAYLIGHT
BEGIN:STANDARD
TZOFFSETFROM:-0700
TZOFFSETTO:-0800
TZNAME:PST
DTSTART:20251102T090000
END:STANDARD
BEGIN:DAYLIGHT
TZOFFSETFROM:-0800
TZOFFSETTO:-0700
TZNAME:PDT
DTSTART:20260308T100000
END:DAYLIGHT
BEGIN:STANDARD
TZOFFSETFROM:-0700
TZOFFSETTO:-0800
TZNAME:PST
DTSTART:20261101T090000
END:STANDARD
END:VTIMEZONE
BEGIN:VEVENT
DTSTART;TZID=America/Los_Angeles:20250714T170000
DTEND;TZID=America/Los_Angeles:20250714T183000
DTSTAMP:20260423T233052
CREATED:20250710T002518Z
LAST-MODIFIED:20250710T002518Z
UID:457-1752512400-1752517800@indivisibleca45.org
SUMMARY:Monday Protests in Brea
DESCRIPTION:Join us every Monday in July from 5pm to 6:30pm on all four corners of Imperial Hwy and State College Blvd – the busiest intersection in Brea at rush hour.\nWe will be visible to over 5\,000 cars in 90 minutes!\nRSVP here for reminders and additional dates https://www.mobilize.us/indivisible/event/808568/ optionally\, or just show up! \nThis event will be CANCELLED on any day that the high temperature in Brea is expected to exceed\, or actually exceeds 90 degrees F. We urge everyone to be cautious when the weather gets hot.\nBrea Weather Forecast is at https://forecast.weather.gov/MapClick.php?lon=-117.888&lat=33.914 \nProtest for Democracy and the Rule Of Law.\nProtest against whatever Crimes are being perpetrated by the oligarchy today.\nBring your signs\nBring your flags.\nPlease be safe!\nThis a local Indivisible event! A core principle behind all Indivisible events is a commitment to nonviolent action. We expect all participants to seek to de-escalate any potential confrontation with those who disagree with our values.
URL:https://indivisibleca45.org/event/monday-protests-in-brea-4/
LOCATION:Brea\, Imperial Hwy and State College Blvd.\, Brea\, CA\, 92821\, United States
ORGANIZER;CN="Indivisible CA 45":MAILTO:action@indivisibleca45.org
END:VEVENT
BEGIN:VEVENT
DTSTART;TZID=America/Los_Angeles:20250717T193000
DTEND;TZID=America/Los_Angeles:20250717T203000
DTSTAMP:20260423T233052
CREATED:20250710T030304Z
LAST-MODIFIED:20250710T030304Z
UID:465-1752780600-1752784200@indivisibleca45.org
SUMMARY:John Lewis's Good Trouble Lives On
DESCRIPTION:Please join Indivisible CA 45 for a candlelight vigil on a national day of remembrance for Congressman John Robert Lewis\, and all that he stood for in human rights\, voting rights\, and to end discrimination.\nThis will be a peaceful and respectful event\, with LED candles provided on a first come basis. \nPlease bring signs with a  positive message or a quote  from the late John Lewis \nA core principle behind all Indivisible events is a commitment to nonviolent action. We expect all participants to seek to de-escalate any potential confrontation with those who disagree with our values.
URL:https://indivisibleca45.org/event/john-lewiss-good-trouble-lives-on/
LOCATION:Brea\, Imperial Hwy and State College Blvd.\, Brea\, CA\, 92821\, United States
ATTACH;FMTTYPE=image/png:https://indivisibleca45.org/wp-content/uploads/2025/07/banner-1-scaled.png
ORGANIZER;CN="Indivisible CA 45":MAILTO:action@indivisibleca45.org
END:VEVENT
BEGIN:VEVENT
DTSTART;TZID=America/Los_Angeles:20250721T170000
DTEND;TZID=America/Los_Angeles:20250721T183000
DTSTAMP:20260423T233052
CREATED:20250710T012609Z
LAST-MODIFIED:20250710T012609Z
UID:459-1753117200-1753122600@indivisibleca45.org
SUMMARY:Monday Protests in Brea
DESCRIPTION:Join us every Monday in July from 5pm to 6:30pm on all four corners of Imperial Hwy and State College Blvd – the busiest intersection in Brea at rush hour.\nWe will be visible to over 5\,000 cars in 90 minutes!\nRSVP here for reminders and additional dates https://www.mobilize.us/indivisible/event/808568/ optionally\, or just show up! \nThis event will be CANCELLED on any day that the high temperature in Brea is expected to exceed\, or actually exceeds 90 degrees F. We urge everyone to be cautious when the weather gets hot.\nBrea Weather Forecast is at https://forecast.weather.gov/MapClick.php?lon=-117.888&lat=33.914 \nProtest for Democracy and the Rule Of Law.\nProtest against whatever Crimes are being perpetrated by the oligarchy today.\nBring your signs\nBring your flags.\nPlease be safe!\nThis a local Indivisible event! A core principle behind all Indivisible events is a commitment to nonviolent action. We expect all participants to seek to de-escalate any potential confrontation with those who disagree with our values.
URL:https://indivisibleca45.org/event/monday-protests-in-brea-5/
LOCATION:Brea\, Imperial Hwy and State College Blvd.\, Brea\, CA\, 92821\, United States
ORGANIZER;CN="Indivisible CA 45":MAILTO:action@indivisibleca45.org
END:VEVENT
BEGIN:VEVENT
DTSTART;TZID=America/Los_Angeles:20250726T110000
DTEND;TZID=America/Los_Angeles:20250726T140000
DTSTAMP:20260423T233052
CREATED:20250713T001324Z
LAST-MODIFIED:20250715T221437Z
UID:469-1753527600-1753538400@indivisibleca45.org
SUMMARY:Indivisible CA 45 TACO Picnic
DESCRIPTION:T A C O Picnic \nCome join us for a day for fun and community building with Indivisible CA 45! \nGames\, raffle prizes\, crafts\, and TACOs (chicken or veggie) and ICE CREAM confections! \nPLEASE RSVP by July 22 at https://www.mobilize.us/indivisible/event/813768/ \nNo alcohol.  Kids welcome – we’ll be right next to the playground! \nWe suggest that you bring chairs or blankets for sitting on the lawn in case there are a lot of people \nHillcrest Park Pavilion\nHillcrest Park Playground\n 
URL:https://indivisibleca45.org/event/indivisible-ca-45-taco-picnic/
LOCATION:Hillcrest Park Pavilion\, 1207 N Lemon St\, Fullerton\, CA\, 92832
CATEGORIES:Picnic
ATTACH;FMTTYPE=image/webp:https://indivisibleca45.org/wp-content/uploads/2025/07/red_tie_taco.webp
ORGANIZER;CN="Indivisible CA 45":MAILTO:action@indivisibleca45.org
END:VEVENT
BEGIN:VEVENT
DTSTART;TZID=America/Los_Angeles:20250728T170000
DTEND;TZID=America/Los_Angeles:20250728T183000
DTSTAMP:20260423T233053
CREATED:20250710T012727Z
LAST-MODIFIED:20250710T012727Z
UID:461-1753722000-1753727400@indivisibleca45.org
SUMMARY:Monday Protests in Brea
DESCRIPTION:Join us every Monday in July from 5pm to 6:30pm on all four corners of Imperial Hwy and State College Blvd – the busiest intersection in Brea at rush hour.\nWe will be visible to over 5\,000 cars in 90 minutes!\nRSVP here for reminders and additional dates https://www.mobilize.us/indivisible/event/808568/ optionally\, or just show up! \nThis event will be CANCELLED on any day that the high temperature in Brea is expected to exceed\, or actually exceeds 90 degrees F. We urge everyone to be cautious when the weather gets hot.\nBrea Weather Forecast is at https://forecast.weather.gov/MapClick.php?lon=-117.888&lat=33.914 \nProtest for Democracy and the Rule Of Law.\nProtest against whatever Crimes are being perpetrated by the oligarchy today.\nBring your signs\nBring your flags.\nPlease be safe!\nThis a local Indivisible event! A core principle behind all Indivisible events is a commitment to nonviolent action. We expect all participants to seek to de-escalate any potential confrontation with those who disagree with our values.
URL:https://indivisibleca45.org/event/monday-protests-in-brea-6/
LOCATION:Brea\, Imperial Hwy and State College Blvd.\, Brea\, CA\, 92821\, United States
ORGANIZER;CN="Indivisible CA 45":MAILTO:action@indivisibleca45.org
END:VEVENT
END:VCALENDAR