BEGIN:VCALENDAR
VERSION:2.0
PRODID:-//Indivisible CA45 - ECPv6.15.20//NONSGML v1.0//EN
CALSCALE:GREGORIAN
METHOD:PUBLISH
X-ORIGINAL-URL:https://indivisibleca45.org
X-WR-CALDESC:Events for Indivisible CA45
REFRESH-INTERVAL;VALUE=DURATION:PT1H
X-Robots-Tag:noindex
X-PUBLISHED-TTL:PT1H
BEGIN:VTIMEZONE
TZID:America/Los_Angeles
BEGIN:DAYLIGHT
TZOFFSETFROM:-0800
TZOFFSETTO:-0700
TZNAME:PDT
DTSTART:20240310T100000
END:DAYLIGHT
BEGIN:STANDARD
TZOFFSETFROM:-0700
TZOFFSETTO:-0800
TZNAME:PST
DTSTART:20241103T090000
END:STANDARD
BEGIN:DAYLIGHT
TZOFFSETFROM:-0800
TZOFFSETTO:-0700
TZNAME:PDT
DTSTART:20250309T100000
END:DAYLIGHT
BEGIN:STANDARD
TZOFFSETFROM:-0700
TZOFFSETTO:-0800
TZNAME:PST
DTSTART:20251102T090000
END:STANDARD
BEGIN:DAYLIGHT
TZOFFSETFROM:-0800
TZOFFSETTO:-0700
TZNAME:PDT
DTSTART:20260308T100000
END:DAYLIGHT
BEGIN:STANDARD
TZOFFSETFROM:-0700
TZOFFSETTO:-0800
TZNAME:PST
DTSTART:20261101T090000
END:STANDARD
END:VTIMEZONE
BEGIN:VEVENT
DTSTART;TZID=America/Los_Angeles:20251006T170000
DTEND;TZID=America/Los_Angeles:20251006T183000
DTSTAMP:20260423T165923
CREATED:20250921T061819Z
LAST-MODIFIED:20250921T061819Z
UID:606-1759770000-1759775400@indivisibleca45.org
SUMMARY:Monday Protests in Brea
DESCRIPTION:Join us every Monday in October\nfrom 5pm to 6:30pm\non all four corners of Imperial Hwy and State College Blvd\n– the busiest intersection in Brea at rush hour.\nWe will be visible to over 5\,000 cars in 90 minutes!  \nRSVP here (in September) for reminders and additional dates\nhttps://mobilize.us/s/YlMQ0k  optionally\, or just show up!\n \nSee the Brea Weather Forecast at https://forecast.weather.gov/MapClick.php?lon=-117.888&lat=33.914 \nWe protest for Democracy\, the Rule Of Law\, and Freedom of Speech!\nProtest against whatever crimes and injustices are being perpetrated by the oligarchy today.\nBring your signs\nBring your flags.\nPlease be safe!\nThe best parking is behind the Northeast or Southeast corners of the intersection. \nThis a local Indivisible event! A core principle behind all Indivisible events is a commitment to nonviolent action. We expect all participants to seek to de-escalate any potential confrontation with those who disagree with our values. 
URL:https://indivisibleca45.org/event/monday-protests-in-brea-15/
LOCATION:Brea\, Imperial Hwy and State College Blvd.\, Brea\, CA\, 92821\, United States
ATTACH;FMTTYPE=image/jpeg:https://indivisibleca45.org/wp-content/uploads/2025/08/dualpic-scaled.jpg
ORGANIZER;CN="Indivisible CA 45":MAILTO:action@indivisibleca45.org
END:VEVENT
BEGIN:VEVENT
DTSTART;TZID=America/Los_Angeles:20251013T170000
DTEND;TZID=America/Los_Angeles:20251013T183000
DTSTAMP:20260423T165923
CREATED:20250921T062042Z
LAST-MODIFIED:20250921T062042Z
UID:608-1760374800-1760380200@indivisibleca45.org
SUMMARY:Monday Protests in Brea
DESCRIPTION:Join us every Monday in October\nfrom 5pm to 6:30pm\non all four corners of Imperial Hwy and State College Blvd\n– the busiest intersection in Brea at rush hour.\nWe will be visible to over 5\,000 cars in 90 minutes!  \nRSVP here (in September) for reminders and additional dates\nhttps://mobilize.us/s/YlMQ0k  optionally\, or just show up!\n \nSee the Brea Weather Forecast at https://forecast.weather.gov/MapClick.php?lon=-117.888&lat=33.914 \nWe protest for Democracy\, the Rule Of Law\, and Freedom of Speech!\nProtest against whatever crimes and injustices are being perpetrated by the oligarchy today.\nBring your signs\nBring your flags.\nPlease be safe!\nThe best parking is behind the Northeast or Southeast corners of the intersection. \nThis a local Indivisible event! A core principle behind all Indivisible events is a commitment to nonviolent action. We expect all participants to seek to de-escalate any potential confrontation with those who disagree with our values. 
URL:https://indivisibleca45.org/event/monday-protests-in-brea-16/
LOCATION:Brea\, Imperial Hwy and State College Blvd.\, Brea\, CA\, 92821\, United States
ATTACH;FMTTYPE=image/jpeg:https://indivisibleca45.org/wp-content/uploads/2025/08/dualpic-scaled.jpg
ORGANIZER;CN="Indivisible CA 45":MAILTO:action@indivisibleca45.org
END:VEVENT
BEGIN:VEVENT
DTSTART;VALUE=DATE:20251018
DTEND;VALUE=DATE:20251019
DTSTAMP:20260423T165923
CREATED:20250903T083908Z
LAST-MODIFIED:20250923T070339Z
UID:584-1760745600-1760831999@indivisibleca45.org
SUMMARY:NO KINGS 2.0
DESCRIPTION:LET’S MAKE IT EVEN BIGGER THIS TIME!\nJoin us at Centennial Park in Santa Ana on Saturday\, October 18 from 2-5pm\, as we say YES to a democracy of\, by\, and for the PEOPLE – and NO to wanna-be kings! \nSign up here for more details and to receive updates and reminders.\nThe OC Indivisible Coalition\, 50501 Orange County\, and WAVE are sponsoring this day of joyful resistance and power. We’ll have music from local DJs & musicians\, speeches from grassroots organizers\, free sign-making & peaceful protest along the sidewalk\, and community organizations for you to connect with. \nMore details also available on Facebook here –\nhttps://www.facebook.com/events/centennial-park/no-kings-orange-county-oct-18/4107030596234309/ \nOther No Kings events in and around Orange County can be found on mobilize at https://www.mobilize.us/?tag_ids=27849
URL:https://indivisibleca45.org/event/no-kings-save-the-date/
LOCATION:CA
ATTACH;FMTTYPE=image/webp:https://indivisibleca45.org/wp-content/uploads/2025/09/wesaynokings-10-18-25-NEW-slider10c.webp
END:VEVENT
BEGIN:VEVENT
DTSTART;TZID=America/Los_Angeles:20251020T170000
DTEND;TZID=America/Los_Angeles:20251020T183000
DTSTAMP:20260423T165923
CREATED:20250921T062259Z
LAST-MODIFIED:20250921T062259Z
UID:610-1760979600-1760985000@indivisibleca45.org
SUMMARY:Monday Protests in Brea
DESCRIPTION:Join us every Monday in October\nfrom 5pm to 6:30pm\non all four corners of Imperial Hwy and State College Blvd\n– the busiest intersection in Brea at rush hour.\nWe will be visible to over 5\,000 cars in 90 minutes!  \nRSVP here (in September) for reminders and additional dates\nhttps://mobilize.us/s/YlMQ0k  optionally\, or just show up!\n \nSee the Brea Weather Forecast at https://forecast.weather.gov/MapClick.php?lon=-117.888&lat=33.914 \nWe protest for Democracy\, the Rule Of Law\, and Freedom of Speech!\nProtest against whatever crimes and injustices are being perpetrated by the oligarchy today.\nBring your signs\nBring your flags.\nPlease be safe!\nThe best parking is behind the Northeast or Southeast corners of the intersection. \nThis a local Indivisible event! A core principle behind all Indivisible events is a commitment to nonviolent action. We expect all participants to seek to de-escalate any potential confrontation with those who disagree with our values. 
URL:https://indivisibleca45.org/event/monday-protests-in-brea-17/
LOCATION:Brea\, Imperial Hwy and State College Blvd.\, Brea\, CA\, 92821\, United States
ATTACH;FMTTYPE=image/jpeg:https://indivisibleca45.org/wp-content/uploads/2025/08/dualpic-scaled.jpg
ORGANIZER;CN="Indivisible CA 45":MAILTO:action@indivisibleca45.org
END:VEVENT
BEGIN:VEVENT
DTSTART;TZID=America/Los_Angeles:20251025T110000
DTEND;TZID=America/Los_Angeles:20251025T123000
DTSTAMP:20260423T165923
CREATED:20251020T062615Z
LAST-MODIFIED:20251021T061339Z
UID:638-1761390000-1761395400@indivisibleca45.org
SUMMARY:Indivisible CA 45 Group Meeting – Immigration / Democracy / Prop 50
DESCRIPTION:Our October meeting will take place on Saturday\, October 25th\, 2025 from 11:00am to 12:30pm at the Fullerton Community Center. Please join us!\nThe special presentation topic will be The New Civil Rights Struggle: Immigration and Democracy in America\, presented by Professor of Sociology and American Studies & Ethnicity at USC\, Dr. Jody Agius Vallejo\, with Director of Camino Immigration Services\, Bethany Anderson.\nIt’s not too late to get out the vote! – Andre Charles of DNOC will give a presentation on Prop 50.\nThere is plenty of free parking at the Community Center.\nDoors open for setup at 10:30 AM
URL:https://indivisibleca45.org/event/indivisible-ca-45-group-meeting-immigration-democracy-prop-50/
LOCATION:Fullerton Community Center\, 340 W Commonwealth Ave\, Fullerton\, CA\, 92832\, United States
ATTACH;FMTTYPE=image/webp:https://indivisibleca45.org/wp-content/uploads/2025/10/Jody-Bethany-Andre2868x956-scaled.webp
END:VEVENT
BEGIN:VEVENT
DTSTART;TZID=America/Los_Angeles:20251027T170000
DTEND;TZID=America/Los_Angeles:20251027T183000
DTSTAMP:20260423T165923
CREATED:20250921T062455Z
LAST-MODIFIED:20250921T062455Z
UID:612-1761584400-1761589800@indivisibleca45.org
SUMMARY:Monday Protests in Brea
DESCRIPTION:Join us every Monday in October\nfrom 5pm to 6:30pm\non all four corners of Imperial Hwy and State College Blvd\n– the busiest intersection in Brea at rush hour.\nWe will be visible to over 5\,000 cars in 90 minutes!  \nRSVP here (in September) for reminders and additional dates\nhttps://mobilize.us/s/YlMQ0k  optionally\, or just show up!\n \nSee the Brea Weather Forecast at https://forecast.weather.gov/MapClick.php?lon=-117.888&lat=33.914 \nWe protest for Democracy\, the Rule Of Law\, and Freedom of Speech!\nProtest against whatever crimes and injustices are being perpetrated by the oligarchy today.\nBring your signs\nBring your flags.\nPlease be safe!\nThe best parking is behind the Northeast or Southeast corners of the intersection. \nThis a local Indivisible event! A core principle behind all Indivisible events is a commitment to nonviolent action. We expect all participants to seek to de-escalate any potential confrontation with those who disagree with our values. 
URL:https://indivisibleca45.org/event/monday-protests-in-brea-18/
LOCATION:Brea\, Imperial Hwy and State College Blvd.\, Brea\, CA\, 92821\, United States
ATTACH;FMTTYPE=image/jpeg:https://indivisibleca45.org/wp-content/uploads/2025/08/dualpic-scaled.jpg
ORGANIZER;CN="Indivisible CA 45":MAILTO:action@indivisibleca45.org
END:VEVENT
END:VCALENDAR