BEGIN:VCALENDAR
VERSION:2.0
PRODID:-//Indivisible CA45 - ECPv6.15.20//NONSGML v1.0//EN
CALSCALE:GREGORIAN
METHOD:PUBLISH
X-WR-CALNAME:Indivisible CA45
X-ORIGINAL-URL:https://indivisibleca45.org
X-WR-CALDESC:Events for Indivisible CA45
REFRESH-INTERVAL;VALUE=DURATION:PT1H
X-Robots-Tag:noindex
X-PUBLISHED-TTL:PT1H
BEGIN:VTIMEZONE
TZID:America/Los_Angeles
BEGIN:DAYLIGHT
TZOFFSETFROM:-0800
TZOFFSETTO:-0700
TZNAME:PDT
DTSTART:20240310T100000
END:DAYLIGHT
BEGIN:STANDARD
TZOFFSETFROM:-0700
TZOFFSETTO:-0800
TZNAME:PST
DTSTART:20241103T090000
END:STANDARD
BEGIN:DAYLIGHT
TZOFFSETFROM:-0800
TZOFFSETTO:-0700
TZNAME:PDT
DTSTART:20250309T100000
END:DAYLIGHT
BEGIN:STANDARD
TZOFFSETFROM:-0700
TZOFFSETTO:-0800
TZNAME:PST
DTSTART:20251102T090000
END:STANDARD
BEGIN:DAYLIGHT
TZOFFSETFROM:-0800
TZOFFSETTO:-0700
TZNAME:PDT
DTSTART:20260308T100000
END:DAYLIGHT
BEGIN:STANDARD
TZOFFSETFROM:-0700
TZOFFSETTO:-0800
TZNAME:PST
DTSTART:20261101T090000
END:STANDARD
END:VTIMEZONE
BEGIN:VEVENT
DTSTART;TZID=America/Los_Angeles:20251103T170000
DTEND;TZID=America/Los_Angeles:20251103T183000
DTSTAMP:20260423T152216
CREATED:20251029T195259Z
LAST-MODIFIED:20251030T053829Z
UID:646-1762189200-1762194600@indivisibleca45.org
SUMMARY:Monday Protests in Brea
DESCRIPTION:Join us every Monday from 5pm to 6:30pm\non all four corners of Imperial Hwy and State College Blvd\n– the busiest intersection in Brea at rush hour.\nWe will be visible to over 5\,000 cars in 90 minutes!  \nRSVP here for reminders and additional dates\nhttps://mobilize.us/s/YlMQ0k  optionally\, or just show up!\n \nWe are committed to safe and peaceful protests for everyone! \nSome new safety guidelines starting November 3rd after the end of Daylight Savings: \n\nDo not cross streets unless absolutely necessary.\nSelect a corner for the rally and stay there.\n(This is for your safety\, as when it is dark drivers cannot see you as well.\nAll of our close-calls have been with people crossing the street.)\nRemain behind the tape placed along the curb.\nFor your signs to be more easily seen and read –\nplease use white posters with black or dark lettering.\nTry to stay in well lit areas. Wear light colored clothing.\nDon’t engage with/distract drivers.\n\nYes on 50! \nWe protest for Democracy\, the Rule Of Law\, and Freedom of Speech!\nProtest against whatever crimes and injustices are being perpetrated by the oligarchy today.\nBring your signs\nBring your flags.\nPlease be safe!\nThe best parking is behind the Northeast or Southeast corners of the intersection. \nThis a local Indivisible event! A core principle behind all Indivisible events is a commitment to nonviolent action. We expect all participants to seek to de-escalate any potential confrontation with those who disagree with our values. 
URL:https://indivisibleca45.org/event/monday-protests-in-brea-19/
LOCATION:Brea\, Imperial Hwy and State College Blvd.\, Brea\, CA\, 92821\, United States
ATTACH;FMTTYPE=image/webp:https://indivisibleca45.org/wp-content/uploads/2025/10/10-28-collage-scaled.webp
ORGANIZER;CN="Indivisible CA 45":MAILTO:action@indivisibleca45.org
END:VEVENT
BEGIN:VEVENT
DTSTART;TZID=America/Los_Angeles:20251110T170000
DTEND;TZID=America/Los_Angeles:20251110T183000
DTSTAMP:20260423T152216
CREATED:20251030T053227Z
LAST-MODIFIED:20251030T053642Z
UID:651-1762794000-1762799400@indivisibleca45.org
SUMMARY:Monday Protests in Brea
DESCRIPTION:Join us every Monday from 5pm to 6:30pm\non all four corners of Imperial Hwy and State College Blvd\n– the busiest intersection in Brea at rush hour.\nWe will be visible to over 5\,000 cars in 90 minutes!  \nRSVP here for reminders and additional dates\nhttps://mobilize.us/s/YlMQ0k  optionally\, or just show up!\n \nWe are committed to safe and peaceful protests for everyone! \nSome new safety guidelines starting November 3rd after the end of Daylight Savings: \n\nDo not cross streets unless absolutely necessary.\nSelect a corner for the rally and stay there.\n(This is for your safety\, as when it is dark drivers cannot see you as well.\nAll of our close-calls have been with people crossing the street.)\nRemain behind the tape placed along the curb.\nFor your signs to be more easily seen and read –\nplease use white posters with black or dark lettering.\nTry to stay in well lit areas. Wear light colored clothing.\nDon’t engage with/distract drivers.\n\nWe protest for Democracy\, the Rule Of Law\, and Freedom of Speech!\nProtest against whatever crimes and injustices are being perpetrated by the oligarchy today.\nBring your signs\nBring your flags.\nPlease be safe!\nThe best parking is behind the Northeast or Southeast corners of the intersection. \nThis a local Indivisible event! A core principle behind all Indivisible events is a commitment to nonviolent action. We expect all participants to seek to de-escalate any potential confrontation with those who disagree with our values. 
URL:https://indivisibleca45.org/event/monday-protests-in-brea-20/
LOCATION:Brea\, Imperial Hwy and State College Blvd.\, Brea\, CA\, 92821\, United States
ATTACH;FMTTYPE=image/webp:https://indivisibleca45.org/wp-content/uploads/2025/10/10-28-collage-scaled.webp
ORGANIZER;CN="Indivisible CA 45":MAILTO:action@indivisibleca45.org
END:VEVENT
BEGIN:VEVENT
DTSTART;TZID=America/Los_Angeles:20251117T170000
DTEND;TZID=America/Los_Angeles:20251117T183000
DTSTAMP:20260423T152216
CREATED:20251115T002157Z
LAST-MODIFIED:20251117T083954Z
UID:657-1763398800-1763404200@indivisibleca45.org
SUMMARY:Monday Protests in Brea
DESCRIPTION:CANCELED 11/17/25 ONLY \nThe weather prediction for Brea on Monday 11/17 (as of 11 PM Sunday) is for 80-90% chance of rain from 4 to 7pm with an accumulation of over a quarter of an inch of rain (just in 3 hours) and temperature dipping below 60 degrees F. Please tell anybody you know that might be attending. \nWe feel that rain on the windshield and on the road and dark of night is a dangerous combination at the busiest intersection in Brea. \nThanks for understanding. The Indivisible CA 45 Team
URL:https://indivisibleca45.org/event/monday-protests-in-brea-21/
LOCATION:Brea\, Imperial Hwy and State College Blvd.\, Brea\, CA\, 92821\, United States
ATTACH;FMTTYPE=image/webp:https://indivisibleca45.org/wp-content/uploads/2025/10/10-28-collage-scaled.webp
ORGANIZER;CN="Indivisible CA 45":MAILTO:action@indivisibleca45.org
END:VEVENT
BEGIN:VEVENT
DTSTART;TZID=America/Los_Angeles:20251124T170000
DTEND;TZID=America/Los_Angeles:20251124T183000
DTSTAMP:20260423T152216
CREATED:20251117T083417Z
LAST-MODIFIED:20251123T082927Z
UID:659-1764003600-1764009000@indivisibleca45.org
SUMMARY:Monday Protests in Brea
DESCRIPTION:RAIN CANCELS \nJoin us every Monday from 5pm to 6:30pm\non all four corners of Imperial Hwy and State College Blvd\n– the busiest intersection in Brea at rush hour.\nWe will be visible to over 5\,000 cars in 90 minutes!  \nRSVP here for reminders and additional dates\nhttps://mobilize.us/s/YlMQ0k  optionally\, or just show up!\n \nWe are committed to safe and peaceful protests for everyone! \nSome new safety guidelines starting November 3rd after the end of Daylight Savings: \n\nDo not cross streets unless absolutely necessary.\nSelect a corner for the rally and stay there.\n(This is for your safety\, as when it is dark drivers cannot see you as well.\nAll of our close-calls have been with people crossing the street.)\nRemain behind the tape placed along the curb.\nFor your signs to be more easily seen and read –\nplease use white posters with black or dark lettering.\nTry to stay in well lit areas. Wear light colored clothing.\nDon’t engage with/distract drivers or agitators. Do not escalate any confrontation.\n\nWe protest for Democracy\, the Rule Of Law\, and Freedom of Speech!\nProtest against whatever crimes and injustices are being perpetrated by MAGA today.\nBring your signs\nBring your flags.\nPlease be safe!\nThe best parking is behind the Northeast or Southeast corners of the intersection. \nThis a local Indivisible event! A core principle behind all Indivisible events is a commitment to nonviolent action. We expect all participants to seek to de-escalate any potential confrontation with those who disagree with our values. 
URL:https://indivisibleca45.org/event/monday-protests-in-brea-22/
LOCATION:Brea\, Imperial Hwy and State College Blvd.\, Brea\, CA\, 92821\, United States
CATEGORIES:Rally
ATTACH;FMTTYPE=image/webp:https://indivisibleca45.org/wp-content/uploads/2025/10/10-28-collage-scaled.webp
ORGANIZER;CN="Indivisible CA 45":MAILTO:action@indivisibleca45.org
END:VEVENT
BEGIN:VEVENT
DTSTART;TZID=America/Los_Angeles:20251128T100000
DTEND;TZID=America/Los_Angeles:20251128T120000
DTSTAMP:20260423T152216
CREATED:20251127T002140Z
LAST-MODIFIED:20251127T013219Z
UID:673-1764324000-1764331200@indivisibleca45.org
SUMMARY:ICE OUT OF HOME DEPOT\, Brea\, CA
DESCRIPTION:Join Indivisible CA 45 and others for a PEACEFUL rally 10 AM to noon Friday 11/28.\nOn the sidewalk in front of Home Depot 2455 E Imperial Hwy\, Brea\, CA 92821 \nThere should be plenty of traffic on Black Friday on Imperial Hwy. \nOur message\nICE out of Home Depot.\nProtect Workers!\nNO buy-in – we are boycotting Home Depot Thanksgiving through Cyber-Monday. \nBring your signs / banners / flags\, and be loud!\nSign up for notifications and updates at https://www.mobilize.us/indivisible/event/873650/ \nA core principle behind all Indivisible events is a commitment to nonviolent action. We expect all participants to seek to de-escalate any potential confrontation with those who disagree with our values.
URL:https://indivisibleca45.org/event/ice-out-of-home-depot-brea-ca/
LOCATION:HOME DEPOT\, BREA\, 2455 E Imperial Hwy\, BREA\, CA\, 92821
ATTACH;FMTTYPE=image/png:https://indivisibleca45.org/wp-content/uploads/2025/11/ICE_OUT_OF_Home_Depot.pdf.convert.png
ORGANIZER;CN="Indivisible CA 45":MAILTO:action@indivisibleca45.org
END:VEVENT
END:VCALENDAR